BEGIN:VCALENDAR
VERSION:2.0
PRODID:-//wp-events-plugin.com//7.2.3.1//EN
TZID:Europe/Berlin
X-WR-TIMEZONE:Europe/Berlin
BEGIN:VEVENT
UID:4302@frauenportal.koeln
DTSTART;TZID=Europe/Berlin:20230604T150000
DTEND;TZID=Europe/Berlin:20230604T170000
DTSTAMP:20230511T094437Z
URL:https://frauenportal.koeln/veranstaltungen/schnuppersegeln-von-frauen-
 fuer-frauen/
SUMMARY:Schnuppersegeln von Frauen für Frauen
DESCRIPTION:Seit 10 Jahren gibt es die Gruppe 'Frauensegeln' beim Yacht-Clu
 b Bayer Leverkusen e.V..\n\nUnter dem Motto "Komm mit aufs Wasser!" verans
 taltet sie am Sonntag\, den 4. Juni 2023 nachmittags ein Schnuppersegeln f
 ür Frauen auf dem Straberg-Nievenheimer See in Dormagen.\n\nHier ist die 
 Einladung: Schnuppersegeln von Frauen Für Frauen (pdf-Datei\, 60 KB).\n\n
 Veranstalterin:\nFrauensegelgruppe im Yacht-Club Bayer Leverkusen e.V.\, w
 ww.ycbl.de/frauensegeln\n\nAnsprechpartnerin:\nMarion Sprickmann\, E-Mail:
  frauensegeln@ycbl.de
LOCATION:Straberg-Nievenheimer See\, Am Straberger See 16\, 41542 Straberg
GEO:51.097768;6.776075
X-APPLE-STRUCTURED-LOCATION;VALUE=URI;X-ADDRESS=Am Straberger See 16\, Stra
 berg\, Nordrhein-Westfalen\, 41542\, Veranstaltungsort\, Deutschland;X-APP
 LE-RADIUS=100;X-TITLE=Straberg-Nievenheimer See:geo:51.097768,6.776075
END:VEVENT
BEGIN:VTIMEZONE
TZID:Europe/Berlin
X-LIC-LOCATION:Europe/Berlin
BEGIN:DAYLIGHT
DTSTART:20230326T030000
TZOFFSETFROM:+0100
TZOFFSETTO:+0200
TZNAME:CEST
END:DAYLIGHT
END:VTIMEZONE
END:VCALENDAR