BEGIN:VCALENDAR
VERSION:2.0
PRODID:-//wp-events-plugin.com//7.2.3.1//EN
TZID:Europe/Berlin
X-WR-TIMEZONE:Europe/Berlin
BEGIN:VEVENT
UID:473@frauenportal.koeln
DTSTART;TZID=Europe/Berlin:20170921T200000
DTEND;TZID=Europe/Berlin:20170921T213000
DTSTAMP:20170731T141122Z
URL:https://frauenportal.koeln/veranstaltungen/schreiende-babys/
SUMMARY:Schreiende Babys
DESCRIPTION:Informationsabend\n\nReferentin\nDr. med. Grazyna Teichert\, Fa
 chärztin für Psychiatrie und Psychotherapie\n\nVeranstalterin:\nKölner 
 Geburtshaus e.V.\n\nAnsprechpartnerin:\nStefanie Lippelt\, Tel.: 02 21 / 7
 2 44 48\, E-Mail: info@koelner-geburtshaus.de\n\nKosten / Anmeldung:\n8 Eu
 ro pro Person\, 15 Euro pro Paar\n\nVeranstaltungsort:\nKölner Geburtshau
 s\, Overbeckstr. 7\, 50823 Köln\, [map id=897]
END:VEVENT
BEGIN:VTIMEZONE
TZID:Europe/Berlin
X-LIC-LOCATION:Europe/Berlin
BEGIN:DAYLIGHT
DTSTART:20170326T030000
TZOFFSETFROM:+0100
TZOFFSETTO:+0200
TZNAME:CEST
END:DAYLIGHT
END:VTIMEZONE
END:VCALENDAR