BEGIN:VCALENDAR
VERSION:2.0
PRODID:-//wp-events-plugin.com//7.2.3.1//EN
TZID:Europe/Berlin
X-WR-TIMEZONE:Europe/Berlin
BEGIN:VEVENT
UID:4596@frauenportal.koeln
DTSTART;TZID=Europe/Berlin:20231218T100000
DTEND;TZID=Europe/Berlin:20231218T153000
DTSTAMP:20231130T112319Z
URL:https://frauenportal.koeln/veranstaltungen/schutz-vor-zwangsverheiratu
 ng-und-patriarchaler-gewalt/
SUMMARY:Schutz vor Zwangsverheiratung und patriarchaler Gewalt
DESCRIPTION:- Mädchen* und Frauen* im Spannungsfeld zwischen Familie und S
 elbstbestimmung - Workshop für Multiplikator*innen -\n\nZwangsverheiratun
 g ist eine Menschenrechtsverletzung.\n\nZwangsverheiratung und andere Form
 en von körperlicher und psychischer Gewalt wie Kontrolle und Einschränku
 ngen bei der Auswahl von Freundschaften\, Ausgangsverbot\, Zwang zur Jungf
 räulichkeit u.ä. sind keine privaten und familiären Angelegenheiten. Si
 e basieren auf traditionellen patriarchalen Strukturen und sind eine Mensc
 henrechtsverletzung\, die als Kontrolle über die Sexualität und den Kör
 per des Mädchens* / der Frau* festgeschrieben ist.\n\nDie betroffenen Mä
 dchen* und Frauen* befinden sich in einem enormen Spannungsfeld. Sie schwa
 nken lange Zeit zwischen dem Wunsch\, es den Eltern recht zu machen zu wol
 len bzw. nicht die Kraft aufbringen zu können sich zur Wehr zu setzen\, u
 nd ihrem Bedürfnis nach Selbstbestimmung.\n\nDieses Seminar bietet die M
 öglichkeit des Austauschs und den Abgleich der Erfahrungen in der Praxis 
 und befasst sich mit den Hintergründen sowie Erklärungsansätze zu den F
 ragen:\n\n	Was sind Zwangsverheiratung und patriarchale Gewalt innerhalb d
 er Familie?\n\n	Warum gibt es Zwangsverheiratung und innerfamiliäre Gewal
 t?\n\n	Wie kann die Selbstbestimmung der Mädchen* und meist jungen Frauen
 * gefördert werden?\n\n\nMit dieser Fortbildung wird die Gelegenheit gebo
 ten\, sich mit diesen Themen auseinanderzusetzen\, entsprechende Rechtsgru
 ndlagen kennenzulernen und gemeinsam Lösungsansätze (auch anhand von Fal
 lbeispielen) zu erarbeiten.\n\nReferentinnen: \nAdrijane Mehmetaj-Bassfeld
  und Angélica Reyes (agisra e.V.)\n\nVeranstalterin:\nagisra e.V.\n\nKont
 akt:\nTel.: 0221 / 124019\, E-Mail: info@agisra.org\n&nbsp\;\nKosten / Anm
 eldung:\nDie Fortbildung richtet sich an Multiplikator*innen\, die mit dem
  Thema bereits konfrontiert wurden oder präventiv tätig werden möchten.
 \nDer Online-Workshop ist kostenlos. Die Teilnehmer*innenanzahl ist beschr
 änkt auf 25 Personen.\nAnmeldung erforderlich bis 15.12.2023 um 12 Uhr.\n
 \nVeranstaltungsort:\nonline
END:VEVENT
BEGIN:VTIMEZONE
TZID:Europe/Berlin
X-LIC-LOCATION:Europe/Berlin
BEGIN:STANDARD
DTSTART:20231029T020000
TZOFFSETFROM:+0200
TZOFFSETTO:+0100
TZNAME:CET
END:STANDARD
END:VTIMEZONE
END:VCALENDAR