BEGIN:VCALENDAR
VERSION:2.0
PRODID:-//wp-events-plugin.com//7.2.3.1//EN
TZID:Europe/Berlin
X-WR-TIMEZONE:Europe/Berlin
BEGIN:VEVENT
UID:2175@frauenportal.koeln
DTSTART;TZID=Europe/Berlin:20201210T190000
DTEND;TZID=Europe/Berlin:20201210T213000
DTSTAMP:20201130T154041Z
URL:https://frauenportal.koeln/veranstaltungen/seglerinnen-treffen-2-2020-
 12-10/
SUMMARY:Seglerinnen-Treffen
DESCRIPTION:Der Termin findet nicht statt.\n\nDie Regionalgruppe Köln des 
 Vereins Die Seglerinnen lädt alle am Segeln interessierten und segelbeg
 eisterten Frauen zu ihren regelmäßigen Treffen am 2. Donnerstag im Monat
  an wechselnden Orten in Köln ein.\n\nVeranstalterin:\nDie Seglerinnen e.
 V.\n\nAnsprechpartnerin:\nClaudia Pinl\, koeln@seglerinnen.de\n\nKosten /
  Anmeldung:\nNeue Frauen sind jederzeit willkommen! Es fällt kein Kostenb
 eitrag an\, lediglich eigener Verzehr.\n\nVeranstaltungsort:\nBitte erfrag
 en.
END:VEVENT
BEGIN:VTIMEZONE
TZID:Europe/Berlin
X-LIC-LOCATION:Europe/Berlin
BEGIN:STANDARD
DTSTART:20201025T020000
TZOFFSETFROM:+0200
TZOFFSETTO:+0100
TZNAME:CET
END:STANDARD
END:VTIMEZONE
END:VCALENDAR