BEGIN:VCALENDAR
VERSION:2.0
PRODID:-//wp-events-plugin.com//7.2.3.1//EN
TZID:Europe/Berlin
X-WR-TIMEZONE:Europe/Berlin
BEGIN:VEVENT
UID:3007@frauenportal.koeln
DTSTART;TZID=Europe/Berlin:20210408T190000
DTEND;TZID=Europe/Berlin:20210408T213000
DTSTAMP:20210326T132226Z
URL:https://frauenportal.koeln/veranstaltungen/seglerinnen-treffen-3-2021-
 04-08/
SUMMARY:Seglerinnen-Treffen
DESCRIPTION:Der Termin findet nicht statt.\nDie Regionalgruppe Köln des Ve
 reins Die Seglerinnen lädt alle am Segeln interessierten und segelbegei
 sterten Frauen zu ihren regelmäßigen Treffen am 2. Donnerstag im Monat a
 n wechselnden Orten in Köln ein.\n\nVeranstalterin:\nDie Seglerinnen e.V.
 \n\nAnsprechpartnerin:\nClaudia Pinl\, koeln@seglerinnen.de\n\nKosten / A
 nmeldung:\nNeue Frauen sind jederzeit willkommen! Es fällt kein Kostenbei
 trag an\, lediglich eigener Verzehr.\n\nVeranstaltungsort:\nBitte erfragen
 .
END:VEVENT
BEGIN:VTIMEZONE
TZID:Europe/Berlin
X-LIC-LOCATION:Europe/Berlin
BEGIN:DAYLIGHT
DTSTART:20210328T030000
TZOFFSETFROM:+0100
TZOFFSETTO:+0200
TZNAME:CEST
END:DAYLIGHT
END:VTIMEZONE
END:VCALENDAR