BEGIN:VCALENDAR
VERSION:2.0
PRODID:-//wp-events-plugin.com//7.2.3.1//EN
TZID:Europe/Berlin
X-WR-TIMEZONE:Europe/Berlin
BEGIN:VEVENT
UID:3407@frauenportal.koeln
DTSTART;TZID=Europe/Berlin:20211117T183000
DTEND;TZID=Europe/Berlin:20211117T203000
DTSTAMP:20211031T133405Z
URL:https://frauenportal.koeln/veranstaltungen/selbst-marketing-im-video-m
 eeting/
SUMMARY:Selbst-Marketing im Video-Meeting
DESCRIPTION:Viele Unternehmen haben bereits angekündigt\, auch nach dem En
 de der Pandemie die Arbeitsweise im Home-Office zumindest teilweise beizub
 ehalten und Meetings öfter online durchzuführen. Das spart Zeit\, Büror
 aum und Reisekosten\, schont das Klima und erlaubt eine bessere Vereinbark
 eit von Familie und Beruf.\n\nAber wie wirken sich Online-Meetings auf die
  Kommunikation im Team aus? Viele Beschäftigte\, insbesondere Frauen\, ha
 ben das Gefühl\, dabei nicht ausreichend zu Wort zu kommen bzw. nicht gen
 ügend Raum zu erhalten\, um sichtbar zu bleiben.\n\nBei diesem Themenaben
 d gibt es Antworten und Impulse zu Fragen wie\n\n\n	Wie können auch wir o
 nline selbstsicher auftreten und unsere Interessen nachhaltig vertreten?\n
  	Was können wir selbst für eine faire Gesprächsführung tun?\n 	Und wi
 e können wir dafür sorgen\, dass unsere Leistungen im Homeoffice angemes
 sen wahrgenommen und gewürdigt werden?\n\n\nAstrid Windfuhr ist Kommunika
 tionstrainerin\, Coach und Image-Beraterin und war vor ihrer freiberuflich
 en Tätigkeit sie viele Jahre als angestellte Führungskraft im Marketing 
 tätig.\n\nReferentin:\nAstrid Windfuhr – Kommunikations- und Stilberatu
 ng\n\nVeranstalterin:\nBundesverband der Frau in Business und Management e
 .V.\n\nAnsprechpartnerin:\nAstrid Windfuhr\, Tel.: 0221 / 732 63 53\n\nKos
 ten / Anmeldung:\nBeitrag für Gäste 10 €\, Mitglieder frei.\nAnmeldung
  erforderlich www.eventbrite.de/e/selbst-marketing-im-videomeeting-tickets
 -194419512997\n\nVeranstaltungsort:\nonline
END:VEVENT
BEGIN:VTIMEZONE
TZID:Europe/Berlin
X-LIC-LOCATION:Europe/Berlin
BEGIN:STANDARD
DTSTART:20211031T020000
TZOFFSETFROM:+0200
TZOFFSETTO:+0100
TZNAME:CET
END:STANDARD
END:VTIMEZONE
END:VCALENDAR