BEGIN:VCALENDAR
VERSION:2.0
PRODID:-//wp-events-plugin.com//7.2.3.1//EN
TZID:Europe/Berlin
X-WR-TIMEZONE:Europe/Berlin
BEGIN:VEVENT
UID:3648@frauenportal.koeln
DTSTART;TZID=Europe/Berlin:20220216T193000
DTEND;TZID=Europe/Berlin:20220216T220000
DTSTAMP:20220128T140637Z
URL:https://frauenportal.koeln/veranstaltungen/selbstbewusst-trotz-selbstz
 weifel/
SUMMARY:Selbstbewusst trotz Selbstzweifel?
DESCRIPTION:Dieser erste B.F.B.M.-Abend im noch jungen Jahr widmet sich in 
 einer moderierten Gesprächsrunde dem Thema Selbstzweifel. Dabei geht es u
 m verschiedene Formen von Selbstzweifeln und um einige Techniken zum Umgan
 g damit. Vor allem sollen jedoch Erfahrungen geteilt werden. Denn: Selbstv
 ertrauen ist weder eine angeborene Eigenschaft\, mit der zufällig manche 
 Frauen gesegnet sind und andere nicht\, noch müssen wir perfekt sein\, um
  Selbstvertrauen zu entwickeln. Sicherlich wird jede zu diesem Thema eine 
 eigene inspirierende Geschichte erzählen können.\n\nReferentin:\nTitia L
 enzhölzer-Maas\n\nVeranstalterin:\nBundesverband der Frau in Business und
  Management e.V.\n\nAnsprechpartnerin:\nAstrid Windfuhr\, Tel.: 0221 / 732
  63 53\n\nKosten / Anmeldung:\nKostenbeitrag für Gäste: 17 Euro. Um Anme
 ldung wird gebeten.\nAchtung: Die Veranstaltung findet in Präsenz statt. 
 Es gilt die 2GPlus-Regel: Geimpft/genesen mit zusätzlichem Test oder gebo
 ostert. Bitte die entsprechenden Bescheinigungen mitbringen!\n\nVeranstalt
 ungsort:\nLohmarer Institut für Weiterbildung e.V.\, Seminarraum in Köln
 \, Hansaring 4\, 50670 Köln\, [map id=17008]
END:VEVENT
BEGIN:VTIMEZONE
TZID:Europe/Berlin
X-LIC-LOCATION:Europe/Berlin
BEGIN:STANDARD
DTSTART:20211031T020000
TZOFFSETFROM:+0200
TZOFFSETTO:+0100
TZNAME:CET
END:STANDARD
END:VTIMEZONE
END:VCALENDAR