BEGIN:VCALENDAR
VERSION:2.0
PRODID:-//wp-events-plugin.com//7.2.3.1//EN
TZID:Europe/Berlin
X-WR-TIMEZONE:Europe/Berlin
BEGIN:VEVENT
UID:1944@frauenportal.koeln
DTSTART;TZID=Europe/Berlin;VALUE=DATE:20191109
DTEND;TZID=Europe/Berlin;VALUE=DATE:20191110
DTSTAMP:20191008T150140Z
URL:https://frauenportal.koeln/veranstaltungen/seminartag-non-profit-manag
 ement-fuer-frauenorganisationen/
SUMMARY:Seminartag: Non-Profit-Management für Frauenorganisationen
DESCRIPTION:10 – 13 Uhr und 14 – 17 Uhr\n\n- Seminartag des AKF Köln a
 nlässlich seines 110jährigen Bestehens -\n\nDer Seminartag beinhaltet vi
 er Workshop-Einheiten mit Inputs zu Theorie und Praxis zu Corporate-Identi
 ty\, Presse- und Öffentlichkeitsarbeit\, Social Media und Fundraising. Es
  geht um Fragen wie: Wer sind wir? Was wollen wir? Wer sind unsere Zielgru
 ppen? Was ist für die Presse eine Nachricht? Wie ist eine Pressemitteilun
 g aufgebaut? Welche Presseportale sind empfehlenswert? Wir tauchen in die 
 Welten von Facebook\, Twitter\, Instagram\, Xing und LinkedIn ein und nehm
 en Online-Plattformen unter die Lupe. Und natürlich sprechen wir über di
 e Wege\, wie frau Spenden\, Preise\, Lotterien\, Matching Funds\, Zuschüs
 se\, Stiftungsmittel akquirieren kann.\n\n10 – 11.30 Uhr:\nCorporate Ide
 ntity\nReferentin: Dr. Marita Alami (Non-Profit-Managerin und -Beraterin)\
 nPraxisvertreterin: Eliana Moravia (Femme Total e.V.)\n\nWer sind wir? Was
  wollen wir? Wer sind unsere Zielgruppen? Das muss intern stets klar sein\
 , damit eine Frauengruppe/-organisation nach außen erfolgreich agieren ka
 nn. Dabei stellt das Corporate Design sicher\, dass diese Organisationside
 ntität von außen immer erkennbar ist\, auch wenn die Zielgruppen jeweils
  passend angesprochen werden.\n\n11.30 – 13 Uhr:\nPresse- und Öffentlic
 hkeitsarbeit (PR)\nReferentin: Brigitte Lausch (Journalistin\, Redakteurin
 \, PR-Beraterin)\n\nIn einer so großen Stadt wie Köln ist es nicht leich
 t\, die Aufmerksamkeit der Massenmedien zu erhalten. Da hilft nur dranblei
 ben und das mit dem richtigen Handwerkszeug: Was ist eine Nachricht? Wie i
 st eine Pressemitteilung aufgebaut? Wie wird sie wann und an wen versandt?
  Welche Presseportale sind empfehlenswert?\n\n13 – 14 Uhr:\nMittagspause
 \nJede verpflegt sich selbst. Es kann auch gemeinsam ein Lokal in der Näh
 e aufgesucht werden.\n\n14 – 15.30 Uhr:\nSocial Media nutzen\nReferentin
 : Brigitte Lausch (Social Media Managerin)\nPraxisvertreterin: Marlies Hes
 se (Soroptimist Clubs Köln Römerturm)\n\nFacebook\, Twitter\, Instagram\
 , Xing\, LinkedIn – alles moderne Möglichkeiten\, auf direktem Wege mit
  den eigenen Zielgruppen in Kontakt zu treten. Wie geht das? Was ist dabei
  zu beachten? Welche Möglichkeiten wie Terminfindung\, Webinare\, … bie
 ten Online-Plattformen noch?\n\n15.30 – 17 Uhr:\nFundraising\nReferentin
 : Dr. Marita Alami (Non-Profit-Managerin und -Beraterin)\nPraxisvertreteri
 n: Claudia Fatzkämper (Fundraiserin beim Handwerkerinnenhaus Köln e.V.)\
 n\nWenn eine Frauengruppe/-organisation Angebote plant\, die mit Mitglieds
 beiträgen und Freiwilligenarbeit nicht zu stemmen sind\, braucht sie Mitt
 el aus anderen Quellen. Das können Spenden\, Preise\, Lotterien\, Matchin
 g Funds\, Zuschüsse\, Stiftungsmittel sein – die Bedingungen sind jewei
 ls unterschiedlich. Was könnte es wo für wen geben? Was gibt es an Grund
 sätzlichem zu beachten?\n\nDer AKF veranstaltet den Seminartag anlässlic
 h seines 110jährigen Bestehens in Kooperation mit der Melanchthon-Akademi
 e Köln\, www.melanchthon-akademie.de.\n\nHier ist die Einladung: AKF-Semi
 nartag Non-Profit-Management 09.11.2019 (pdf-Datei\, 331 KB)\n\nVeranstalt
 erinnen:\n\n 	Arbeitskreis Kölner Frauenvereinigungen (AKF)\n 	Melanchtho
 n-Akademie Köln\, www.melanchthon-akademie.de\n\nAnsprechpartnerin:\nDr. 
 Marita Alami\, Tel.: 0221 / 1397550\, E-Mail: info@akf-koeln.de\n\nKosten 
 / Anmeldung:\nEintritt frei\, Anmeldung erforderlich:\nhttps://www.melanch
 thon-akademie.de/programm/kursanmeldung/15268-non-profit-management-fuer-f
 rauenorganisationen/\n\nVeranstaltungsort:\nMelanchthon-Akademie Köln\, K
 artäuserwall 24b\, 50678 Köln\, [map id=931]
END:VEVENT
BEGIN:VTIMEZONE
TZID:Europe/Berlin
X-LIC-LOCATION:Europe/Berlin
BEGIN:STANDARD
DTSTART:20191027T020000
TZOFFSETFROM:+0200
TZOFFSETTO:+0100
TZNAME:CET
END:STANDARD
END:VTIMEZONE
END:VCALENDAR