BEGIN:VCALENDAR
VERSION:2.0
PRODID:-//wp-events-plugin.com//7.2.3.1//EN
TZID:Europe/Berlin
X-WR-TIMEZONE:Europe/Berlin
BEGIN:VEVENT
UID:3958@frauenportal.koeln
DTSTART;TZID=Europe/Berlin:20221201T110000
DTEND;TZID=Europe/Berlin:20221201T220000
DTSTAMP:20221128T094037Z
URL:https://frauenportal.koeln/veranstaltungen/si-club-koeln-kolumba-auf-d
 em-weihnachtsmarkt-am-dom-2/
SUMMARY:SI Club Köln-Kolumba auf dem Weihnachtsmarkt am Dom
DESCRIPTION:Der SI Köln-Kolumba ist an zwei Tagen präsent auf dem Kölner
  Weihnachtsmarkt\, Roncalli Platz\, Stand 33.\n\nMittwoch: 30.11.2022 von 
 11.00 Uhr bis 21.00 Uhr\nDonnerstag: 01.12.2022 von 11.00 Uhr bis 22.00 Uh
 r\n\nZwei Tage lang wird allerhand Leckeres\, Schönes\, Künstlerisches u
 nd Nützliches zum Verkauf geboten. Alle Produkte stammen aus eigener Hers
 tellung\, wurden in Einrichtungen von Menschen mit Behinderung für diesen
  Anlass gefertigt oder von Sponsoren gespendet.\n\nMit den Erlösen aus de
 m Verkauf von Weihnachtsprodukten sowie aus dem Verkauf von Losen für ihr
  Glücksrad finanzieren die Soroptimistinnen des jüngsten der drei Kölne
 r Clubs u.a. eines ihrer Herzensprojekte\, den Verein „wir für Pänz e.
 V.“ in Köln. Der Verein kümmert sich um Familien und Kinder\, die durc
 h chronische Krankheit\, Behinderung und/ oder Armut benachteiligt sind.\n
 \nHier ist die Einladung: SI Koeln-Kolumba Weihnachtsmarkt 2022 (pdf-Datei
 \, 586 KB)\n\nVeranstalterin:\nSoroptimist Clubs Köln - Kolumba\n\nAnspre
 chpartnerin:\nAnne Hamann\, E-Mail: kontakt@si-kolumba.de\n\nVeranstaltung
 sort:\nWeihnachtsmarkt am Dom\, Roncalliplatz\, Köln\, [map id=943]
END:VEVENT
BEGIN:VTIMEZONE
TZID:Europe/Berlin
X-LIC-LOCATION:Europe/Berlin
BEGIN:STANDARD
DTSTART:20221030T020000
TZOFFSETFROM:+0200
TZOFFSETTO:+0100
TZNAME:CET
END:STANDARD
END:VTIMEZONE
END:VCALENDAR