BEGIN:VCALENDAR
VERSION:2.0
PRODID:-//wp-events-plugin.com//7.2.3.1//EN
TZID:Europe/Berlin
X-WR-TIMEZONE:Europe/Berlin
BEGIN:VEVENT
UID:1379@frauenportal.koeln
DTSTART;TZID=Europe/Berlin:20181109T190000
DTEND;TZID=Europe/Berlin:20181109T220000
DTSTAMP:20181031T151636Z
URL:https://frauenportal.koeln/veranstaltungen/si-club-koeln-kolumba-kultu
 reller-kennenlernabend/
SUMMARY:SI-Club Köln-Kolumba: Kultureller Kennenlernabend
DESCRIPTION:... mit kulinarischen Köstlichkeiten und Sektempfang.\n\nHier 
 ist die Einladung: SI-Club Köln-Kolumba Kultureller Kennenlernabend (pdf-
 Datei\, 1 MB)\n\n\nVeranstalterin:\nSoroptimist Club Köln-Kolumba\, Sorop
 timist Clubs Köln\n\nAnsprechpartnerin:\nMonika Holtschneider\, E-Mail: m
 onikah@si-kolumba.de\n\nKosten / Anmeldung:\nKostenbeitrag (ohne Getränke
 ): 29\,00 €. Begrenzte Teilnehmendenzahl. Anmeldung unter: www.anmeldung
 .si-kolumba.de\n\nVeranstaltungsort:\nHinterhofsalon\, Aachener Str. 68\, 
 50674 Köln\, [map id=12652]
END:VEVENT
BEGIN:VTIMEZONE
TZID:Europe/Berlin
X-LIC-LOCATION:Europe/Berlin
BEGIN:STANDARD
DTSTART:20181028T020000
TZOFFSETFROM:+0200
TZOFFSETTO:+0100
TZNAME:CET
END:STANDARD
END:VTIMEZONE
END:VCALENDAR