BEGIN:VCALENDAR
VERSION:2.0
PRODID:-//wp-events-plugin.com//7.2.3.1//EN
TZID:Europe/Berlin
X-WR-TIMEZONE:Europe/Berlin
BEGIN:VEVENT
UID:3942@frauenportal.koeln
DTSTART;TZID=Europe/Berlin:20221114T200000
DTEND;TZID=Europe/Berlin:20221114T220000
DTSTAMP:20221102T152907Z
URL:https://frauenportal.koeln/veranstaltungen/sisters-of-comedy-nachgelac
 ht-3/
SUMMARY:Sisters of Comedy - Nachgelacht
DESCRIPTION:Show 2022 in Köln mit:\nDagmar Schönleber (Moderation und Kab
 arett)\nNessi Tausendschön (Musik und Kabarett)\nKatinka Budenkotte (Kaba
 rett)\nMarie Gdaniec  (Slam Poetry)\n\nSchirmfrau: Bettina Mötting – G
 leichstellungsbeauftragte der Stadt Köln\n\nSpenden 2022 zugunsten der Lo
 bby für Mädchen e.V.\n\nNach den großen Erfolgen der letzten Jahre star
 tet die geballte Komikerinnenoffensive erneut den Angriff auf Herz\, Hirn 
 und Humorzentrum! Zeitgleich finden zahlreiche Shows in über zwanzig Stä
 dten statt. 100% Frauenpower!\n\n"Sisters of Comedy - Nachgelacht!" ist fe
 rnab von Witzen über Frustshopping und Bindegewebe - keine Frauenquotenga
 la\, keine Männerschelte\, einfach eine grandiose Show von Frauen für al
 le!\n\nWie es dazu kam?\n\nDie Komikerinnen stellten im Erfahrungsaustausc
 h fest\, dass viele von ihnen immer wieder mit den gleichen Aussagen konfr
 ontiert wurden: "Es gibt ja so wenig lustige Frauen in Deutschland" oder "
 Maximal eine Frau pro Show!"\, sowie zahlreichen Alltagsdiskriminierungen 
 wie "Sie machen das beruflich? Was sagt denn Ihr Mann dazu?!"\n\nMit der B
 esetzungspolitik (die sich durchaus auf andere Berufsgruppen übertragen l
 ässt!) sind die Damen nicht einverstanden und haben beschlossen\, im Sinn
 e der weltweiten feministischen Aktion "One Billion Rising" oder des ameri
 kanischen "Women`s March" selbst einen Event zu inszenieren - mit ihren Wa
 ffen: Humor auf der Bühne.\n\nAb 2021 findet die Show immer am zweiten Mo
 ntag im November statt.\n\nVeranstalterInnen:\nSisters of Comedy\, www.sis
 ters-of-comedy-nachgelacht.de\nBürgerhaus Stollwerck\, www.buergerhaussto
 llwerck.de\n\nAnsprechpartnerin:\nDagmar Schönleber\, E-Mail: kontakt@dag
 marschoenleber.de\n\nKosten / Anmeldung:\nTickets gibt es bei: www.koelnti
 cket.de\n\nVeranstaltungsort:\nBürgerhaus Stollwerck\, Dreikönigenstr. 2
 3\, 50678 Köln\, [map id=907]
END:VEVENT
BEGIN:VTIMEZONE
TZID:Europe/Berlin
X-LIC-LOCATION:Europe/Berlin
BEGIN:STANDARD
DTSTART:20221030T020000
TZOFFSETFROM:+0200
TZOFFSETTO:+0100
TZNAME:CET
END:STANDARD
END:VTIMEZONE
END:VCALENDAR