BEGIN:VCALENDAR
VERSION:2.0
PRODID:-//wp-events-plugin.com//7.2.3.1//EN
TZID:Europe/Berlin
X-WR-TIMEZONE:Europe/Berlin
BEGIN:VEVENT
UID:2408@frauenportal.koeln
DTSTART;TZID=Europe/Berlin:20191112T200000
DTEND;TZID=Europe/Berlin:20191112T220000
DTSTAMP:20191030T110907Z
URL:https://frauenportal.koeln/veranstaltungen/sisters-of-comedy-nachgelac
 ht/
SUMMARY:Sisters of Comedy - Nachgelacht
DESCRIPTION:Show 2019 in Köln\n\nmit:\nDagmar Schönleber\, Kabarett\, Lie
 dermacherin\, Patin der Show\nAnka Zink\, Kabarett\nMirja Regensburg\, Com
 edy\nSabine Wiegand als dat Rosi\, Kabarett\, Musik\, Klamauk\n\nSchirmfra
 u: Bettina Mötting\, Gleichstellungsbeauftragte der Stadt Köln\n\n12. No
 vember ist Sisters Day - ab jetzt für immer!\n\nNach dem großen Erfolg 2
 018 startet die geballte Komikerinnenoffensive erneut den Angriff auf Herz
 \, Hirn und Humorzentrum! Zeitgleich finden zahlreiche Shows\, an bundeswe
 it 41 Veranstaltungsorten mit 258 Künstlerinnen\, statt.\n\n100% Frauenpo
 wer: krachend kabarettistisch\, furios feminin und derbe divenhaft\, für 
 Sie & Ihn und alles dazwischen.\n\nRückblick:\n\nAm 12. November 2018 hab
 en 163 beruflich lustige Frauen\, landesweit\, in 28 Shows über 6651 Zusc
 hauer/innen zum Lachen\, Ausrasten und Nachdenken gebracht. Insgesamt kame
 n an diesem Abend € 52.941.- Spenden zusammen. Geld\, das Frauen unterst
 ützen\, fördern und hoffentlich (wieder) in eine bessere Lebenssituation
  bringen wird.\n\nDenn in Zeiten\, in denen man erneut über Frauenrechte 
 und Meinungsfreiheit diskutieren muss\, der Wind von rechts weltweit schä
 rfer bläst und auch in westlichen Kulturen ein sehr konservatives Frauenb
 ild neu propagiert wird\, lautet das Motto: - Humor ist die Reinform des W
 iderstands!\n\n„Sisters of Comedy - Nachgelacht“ ist fernab von Witzen
  über Frustshopping und Bindegewebe - keine Frauenquotengala\, keine Män
 nerschelte\, einfach eine grandiose\, fulminante Show\, mit allem\, was De
 utschlands brodelnde Komikerinnenszene zu bieten hat: Comediennes\, Musik-
 Kabarettistinnen\, Poetry-Slammerinnen und noch viel mehr.\n\nSisters Of C
 omedy spendet natürlich weiterhin einen Teil der Einnahmen an Hilfsprojek
 te\, die sich auch an Ort und Stelle präsentieren.\n\nVeranstalterInnen:\
 nBürgerhaus Stollwerck\, www.buergerhausstollwerck.de\nSisters of Comedy\
 , www.sisters-of-comedy-nachgelacht.de \n\nAnsprechpartnerin:\nDagmar Sch
 önleber\, E-Mail: kontakt@dagmarschoenleber.de\n\nKosten / Anmeldung:\nTi
 ckets gibt es bei www.koelnticket.de.\nZuzüglich zum Eintrittspreis wird 
 beim Einlass eine Mindestspende von 10\,- Euro zugunsten von KIWI / CARE g
 esammelt.\n\nVeranstaltungsort:\nBürgerhaus Stollwerck\, Dreikönigenstr.
  23\, 50678 Köln\, [map id=907]
END:VEVENT
BEGIN:VTIMEZONE
TZID:Europe/Berlin
X-LIC-LOCATION:Europe/Berlin
BEGIN:STANDARD
DTSTART:20191027T020000
TZOFFSETFROM:+0200
TZOFFSETTO:+0100
TZNAME:CET
END:STANDARD
END:VTIMEZONE
END:VCALENDAR