BEGIN:VCALENDAR
VERSION:2.0
PRODID:-//wp-events-plugin.com//7.2.3.1//EN
TZID:Europe/Berlin
X-WR-TIMEZONE:Europe/Berlin
BEGIN:VEVENT
UID:6009@frauenportal.koeln
DTSTART;TZID=Europe/Berlin:20251129T190000
DTEND;TZID=Europe/Berlin:20251129T233000
DTSTAMP:20251128T132655Z
URL:https://frauenportal.koeln/veranstaltungen/soli-party-zugunsten-der-au
 tonomen-frauenhaeuser-koeln-2/
SUMMARY:Soli-Party zugunsten der Autonomen Frauenhäuser Köln
DESCRIPTION:Alle FLINTA willkommen!\n\nFLINTA = Frauen\, Lesben\, Inter\, N
 icht-Binäre\, Trans und Agender\n\n19 Uhr: Filmvorführung: „40 Jahre F
 rauenhaus Köln“\n\ndanach\n\nPARTY und TANZEN\n\nAus der Einladung:\n\n
 "Wir\, die Solitres(s)en\, sind eine Gruppe von Lesben und Queers. Jedes J
 ahr organisieren wir rund um den 25.11.\, dem internationalen Tag gegen pa
 triarchale Gewalt\, eine Party.\n\nEs ist widerlich\, dass jede 3. Frau in
  ihrem Leben Gewalt erfährt. Die Studien\, die es bisher gibt\, zeigen\, 
 dass TIN-Personen sogar noch stärker betroffen sind. Das ist nicht hinneh
 mbar!\n\nMit dieser Party wollen wir euch empowern und vernetzen\, damit w
 ir uns gegenseitig stärken können\, gegen Gewalt einzutreten.\n\nUnite i
 n Solidarity👏\n\nKlar ist: auf dieser Party wollen wir ein wertschätze
 ndes und achtsames Miteinander. Für die Unterschiedlichkeiten\, die wir h
 aben\, wünschen wir uns Respekt und Offenheit. Du hast Verantwortung für
  dein Handeln. Trage dazu bei\, dass die Party cool wird und sich alle woh
 l fühlen. Falls du dich unwohl fühlst\, kannst du dich jederzeit am Eing
 ang oder an die Theke melden.\n\nViel Spaß! Wir freuen uns mit dir zu fei
 ern!"\n\nVeranstalterin:\nBürgerzentrum Ehrenfeld e.V.\, www.bueze.de\n\n
 Ansprechpartnerin:\nClaudia Schrimpf\, Tel.: 0221 / 51 55 12\, E-Mail: ver
 waltung@frauenhelfenfrauen-koeln.de\n\nKosten / Anmeldung:\nSpendenempfehl
 ung: 3-30 €\nAlle Spenden gehen zu 100% an: Autonome Frauenhäuser Köln
 \, Frauen helfen Frauen e.V.
LOCATION:Bürgerzentrum BÜZE Ehrenfeld\, Venloer Str. 429\, 50825 Köln
GEO:50.95287428;6.91240844
X-APPLE-STRUCTURED-LOCATION;VALUE=URI;X-ADDRESS=Venloer Str. 429\, Köln\, 
 50825\, Veranstaltungsort\, Deutschland;X-APPLE-RADIUS=100;X-TITLE=Bürger
 zentrum BÜZE Ehrenfeld:geo:50.95287428,6.91240844
END:VEVENT
BEGIN:VTIMEZONE
TZID:Europe/Berlin
X-LIC-LOCATION:Europe/Berlin
BEGIN:STANDARD
DTSTART:20251026T020000
TZOFFSETFROM:+0200
TZOFFSETTO:+0100
TZNAME:CET
END:STANDARD
END:VTIMEZONE
END:VCALENDAR