BEGIN:VCALENDAR
VERSION:2.0
PRODID:-//wp-events-plugin.com//7.2.3.1//EN
TZID:Europe/Berlin
X-WR-TIMEZONE:Europe/Berlin
BEGIN:VEVENT
UID:3891@frauenportal.koeln
DTSTART;TZID=Europe/Berlin:20220913T190000
DTEND;TZID=Europe/Berlin:20220913T213000
DTSTAMP:20220906T074332Z
URL:https://frauenportal.koeln/veranstaltungen/solikino-thousand-girls-lik
 e-me/
SUMMARY:Solikino: Thousand Girls Like Me
DESCRIPTION:– zugunsten von Frauen in Afghanistan –\n\nDie afghanische 
 Filmemacherin Sahra Mani kommt eigens nach Köln und wird im anschließend
 en Gespräch mit der afghanischen Journalistin Arezao Naiby über die Situ
 ation im Land und die Hilfsaktionen berichten.\n \nMit den Einnahmen unter
 stützt das Filmnetzwerk LADOC Frauen in Afghanistan\, die teilweise unter
 getaucht sind oder aus anderen Gründen keine eigenen Einnahmen mehr haben
 .\n\nHier ist die Pressemitteilung mit weiteren Infos zum Film: Solikino m
 it Filmgespraech_13.9.22_LaDOC\, pdf-Datei\, 843 KB\n\nVeranstalterin:\nLa
 DOC FILMNETZWERK\, www.ladoc.de\n\nAnsprechpartnerin:\nMartina Pfaff\, E-M
 ail: martinahpfaff@gmx.de\n\nVeranstaltungsort:\nLichtspiele Kalk\, Kalk-M
 ülheimer Str. 130/132\, 51103 Köln\, [map id=17782]
END:VEVENT
BEGIN:VTIMEZONE
TZID:Europe/Berlin
X-LIC-LOCATION:Europe/Berlin
BEGIN:DAYLIGHT
DTSTART:20220327T030000
TZOFFSETFROM:+0100
TZOFFSETTO:+0200
TZNAME:CEST
END:DAYLIGHT
END:VTIMEZONE
END:VCALENDAR