BEGIN:VCALENDAR
VERSION:2.0
PRODID:-//wp-events-plugin.com//7.2.3.1//EN
TZID:Europe/Berlin
X-WR-TIMEZONE:Europe/Berlin
BEGIN:VEVENT
UID:2387@frauenportal.koeln
DTSTART;TZID=Europe/Berlin:20200606T111100
DTEND;TZID=Europe/Berlin:20200606T160000
DTSTAMP:20200608T143702Z
URL:https://frauenportal.koeln/veranstaltungen/sommerfest-111-jahre-akf-ko
 eln/
SUMMARY:Sommerfest – 111 Jahre AKF Köln!
DESCRIPTION:Der Termin findet nicht statt. Die Veranstaltung wird am Samsta
 g\, 12. Juni 2021 von 11.11 Uhr bis 16 Uhr nachgeholt.\n\n1909 wurde der A
 KF (Arbeitskreis Köl­ner Frau­en­ver­ei­ni­gun­gen) gegründet. He
 ute sind 46 Frau­en­ver­ei­ni­gun­gen seine Mitglieder\, die sich se
 it vielen Jahren kontinuierlich und mit ihrem gemeinsamen\, engagierten Wi
 rken hier in Köln für die Verbesserung der Stellung der Frau in Gesellsc
 haft\, Wirtschaft und Politik einsetzen.\n\nViele gute Gründe\, zum Jubil
 äum mit der jecken kölschen „111“ im kommenden Jahr ein fröhliches 
 Gartenfest zu feiern!\n\nEs gibt Informationen zum AKF Köln – seine Arb
 eit und seine Mitglieder. Die Oberbürgermeisterin der Stadt Köln\, Henri
 ette Reker\, kommt und die Präsidentin der IHK zu Köln\, Dr. Nicole Grü
 newald\, spricht ein Grußwort. Weiter geht es dann mit dem Auftritt der K
 ölner Schauspielerin\, Kabarettistin\, Sängerin und Stunksitzungspräsid
 entin Biggi Wanninger. \n\nMusikalisch begleitet von DJane Sabine Nurtsch 
 wird anschließend gemeinsam gefeiert – mit Mitstreiter*innen\, Weggefä
 hrt*innen\, Kooperationspartner*innen\, Neulingen und allen Interessierten
 ! \n\nVeranstalterinnen:\n\n 	Arbeitskreis Kölner Frauenvereinigungen (AK
 F)\n 	Melanchthon-Akademie Köln\, www.melanchthon-akademie.de\n\n\nAnspre
 chpartnerin:\nDr. Marita Alami\, Tel.: 0221 / 1397550\, E-Mail: info@akf-k
 oeln.de\n\nVeranstaltungsort:\nMelanchthon-Akademie Köln\, Kartäuserwall
  24b\, 50678 Köln\, [map id=931]
END:VEVENT
BEGIN:VTIMEZONE
TZID:Europe/Berlin
X-LIC-LOCATION:Europe/Berlin
BEGIN:DAYLIGHT
DTSTART:20200329T030000
TZOFFSETFROM:+0100
TZOFFSETTO:+0200
TZNAME:CEST
END:DAYLIGHT
END:VTIMEZONE
END:VCALENDAR