BEGIN:VCALENDAR
VERSION:2.0
PRODID:-//wp-events-plugin.com//7.2.3.1//EN
TZID:Europe/Berlin
X-WR-TIMEZONE:Europe/Berlin
BEGIN:VEVENT
UID:3853@frauenportal.koeln
DTSTART;TZID=Europe/Berlin:20220820T140000
DTEND;TZID=Europe/Berlin:20220820T170000
DTSTAMP:20220729T113506Z
URL:https://frauenportal.koeln/veranstaltungen/sommerfest-gemeinsam-sind-w
 ir-kfd/
SUMMARY:Sommerfest "Gemeinsam sind wir kfd"
DESCRIPTION:kfd-Frauen und Interessierte sind herzlich eingeladen\, sich un
 tereinander auszutauschen und zu vernetzen.\n\nEs gibt:\n\n 	Musik Jukebox
 -Helden\n 	Theatergruppe "EisSplitterTorte"\n 	Ausstellung zu nachhaltiger
  Mode\n 	Verpflegung:\n\n 	vegetarische Bowls\n 	Kaffee und Getränke\n 	K
 uchen\n 	Eis\n\n\n 	Kinderbetreuung\n\n\nHier ist die Einladung: kfd-Somme
 rfest-2022 (pdf-Datei\, 731 KB)\n\nVeranstalterin:\nkfd - Katholische Frau
 engemeinschaft Deutschlands Köln e.V.\n\nAnsprechpartnerin:\nAndrea Mons
 chau\, Tel.: 0221 / 1642-1545\, E-Mail:info@kfd-koeln.de\n\nKosten / Anmel
 dung:\nEintritt frei. Um Anmeldung wird gebeten.\n\nVeranstaltungsort:\nGe
 schäftsstelle kfd - Diözesanverband Köln e. V.\, An Groß St. Martin 10
 \, 50667 Köln\, [map id=11641]
END:VEVENT
BEGIN:VTIMEZONE
TZID:Europe/Berlin
X-LIC-LOCATION:Europe/Berlin
BEGIN:DAYLIGHT
DTSTART:20220327T030000
TZOFFSETFROM:+0100
TZOFFSETTO:+0200
TZNAME:CEST
END:DAYLIGHT
END:VTIMEZONE
END:VCALENDAR