BEGIN:VCALENDAR
VERSION:2.0
PRODID:-//wp-events-plugin.com//7.2.3.1//EN
TZID:Europe/Berlin
X-WR-TIMEZONE:Europe/Berlin
BEGIN:VEVENT
UID:4334@frauenportal.koeln
DTSTART;TZID=Europe/Berlin:20230701T140000
DTEND;TZID=Europe/Berlin:20230701T170000
DTSTAMP:20230630T120331Z
URL:https://frauenportal.koeln/veranstaltungen/sommerfest-im-frauenmuseum/
SUMMARY:Sommerfest im Frauenmuseum
DESCRIPTION:14 - 17 Uhr:\nFührung durch Gertruds mediterranen Sommergarte
 n mit Curt Delander\,\nAktionen für Kinder\,\noffener HildeGarten auf dem
  Dach und Café im Hof.\n\n15 Uhr: \nEnthüllung der Skulpturen von Pari R
 avan.\n\n18 Uhr:\nVortrag zu Hildegards Heilkräutern von Ingeborg Rathofe
 r & Renate Vollmar c/o Gertrudisteam.\n\nHier ist die Einladung: Sommerfes
 t im Frauenmuseum 2023 (pdf-Datei\, 344 KB)\n\nVeranstalterin:\nFrauenmuse
 um\n\nAnsprechpartnerin:\nPetra Peter-Friedrichs\, Tel: 0228/ 691344\, E-M
 ail: petra.peter-friedrichs@frauenmuseum.de\n&nbsp\;\nKosten:\nEintritt zu
  allen Ausstellungen frei\, Spenden willkommen!
LOCATION:Frauenmuseum\, Im Krausfeld 10\, 53111 Bonn
GEO:50.74042739999999;7.092034399999989
X-APPLE-STRUCTURED-LOCATION;VALUE=URI;X-ADDRESS=Im Krausfeld 10\, Bonn\, 53
 111\, Frauenorganisation\, Deutschland;X-APPLE-RADIUS=100;X-TITLE=Frauenmu
 seum:geo:50.74042739999999,7.092034399999989
END:VEVENT
BEGIN:VTIMEZONE
TZID:Europe/Berlin
X-LIC-LOCATION:Europe/Berlin
BEGIN:DAYLIGHT
DTSTART:20230326T030000
TZOFFSETFROM:+0100
TZOFFSETTO:+0200
TZNAME:CEST
END:DAYLIGHT
END:VTIMEZONE
END:VCALENDAR