BEGIN:VCALENDAR
VERSION:2.0
PRODID:-//wp-events-plugin.com//7.2.3.1//EN
TZID:Europe/Berlin
X-WR-TIMEZONE:Europe/Berlin
BEGIN:VEVENT
UID:5099@frauenportal.koeln
DTSTART;TZID=Europe/Berlin:20240704T190000
DTEND;TZID=Europe/Berlin:20240704T210000
DTSTAMP:20240605T104126Z
URL:https://frauenportal.koeln/veranstaltungen/sommerlicher-netzwerkabend/
SUMMARY:Sommerlicher Netzwerkabend
DESCRIPTION:Nicht alle nutzen den Juli\, um in ferne Länder zu verreisen\,
  sondern genießen den Sommer gerne in Köln. \nDaher lädt der BPW German
 y Club Köln herzlich zu einem sommerlichen Netzwerkabend für Daheimgebli
 ebene ein.\n\nIm Biergarten am Aachener Weiher soll zusammen gesessen und 
 bei einem gemütlichen Abend sich ausgetauscht und einander kennengelernt 
 werden.\nFür die Fußballbegeisterten: Keine Sorge\, an dem Abend findet 
 kein Spiel statt! Es kann also getrost ein fußballfreier Abend – mit Ne
 tzwerken – genossen werden.\n\nVeranstalterinnen:\nBPW Germany Club Köl
 n\n\nAnsprechpartnerin:\nNyelete S. Gonçalves Chilenge\,E-Mail: bpw-koeln
 @web.de\n\nKosten /Anmeldung:\nDie Anmeldung ist kostenlos\, jede kommt f
 ür ihren Verzehr selber auf.\nFür einen guten Überblick\, wer alles kom
 mt\, bitte anmelden unter: www.eventbrite.de/e/sommerlicher-netzwerkabend-
 im-biergarten-tickets-916125294417
LOCATION:Biergarten am Aachener Weiher\, Richard-Wagner-Str.\, 50677 Köln
GEO:50.935228;6.926172
X-APPLE-STRUCTURED-LOCATION;VALUE=URI;X-ADDRESS=Richard-Wagner-Str.\, Köln
 \, Nordrhein-Westfalen\, 50677\, Veranstaltungsort\, Deutschland;X-APPLE-R
 ADIUS=100;X-TITLE=Biergarten am Aachener Weiher:geo:50.935228,6.926172
END:VEVENT
BEGIN:VTIMEZONE
TZID:Europe/Berlin
X-LIC-LOCATION:Europe/Berlin
BEGIN:DAYLIGHT
DTSTART:20240331T030000
TZOFFSETFROM:+0100
TZOFFSETTO:+0200
TZNAME:CEST
END:DAYLIGHT
END:VTIMEZONE
END:VCALENDAR