BEGIN:VCALENDAR
VERSION:2.0
PRODID:-//wp-events-plugin.com//7.2.3.1//EN
TZID:Europe/Berlin
X-WR-TIMEZONE:Europe/Berlin
BEGIN:VEVENT
UID:3848@frauenportal.koeln
DTSTART;TZID=Europe/Berlin:20220820T150000
DTEND;TZID=Europe/Berlin:20220820T180000
DTSTAMP:20220729T110702Z
URL:https://frauenportal.koeln/veranstaltungen/sommerschreibwellness/
SUMMARY:SommerSchreibWellness
DESCRIPTION:Sommer und Schreiben\, wie passt das zusammen? Gerade in der wa
 rmen Jahreszeit gibt es viele Möglichkeiten\, mit Stift und Papier in den
  kreativen Flow zu kommen. Einige werden in geselliger Runde drinnen und d
 raußen ausprobiert und es wird sich darüber ausgetauscht\, was das jewei
 ls mit uns und unseren Texten macht. So können gemeinsam individuelle Weg
 e entdeckt werden\, auch im sommerlichen Alltag immer wieder mal ins kreat
 ive und biografische Schreiben zu kommen. Die Kombination aus spielerische
 m Umgang mit Worten und wertschätzendem Austausch bewirkt eine wohltuende
  Nähe\, die geltenden Abstandsregelungen nicht widerspricht. \n\nSchreibe
 rfahrung ist nicht erforderlich\, wohl aber Schreibheft\, Stifte und Munds
 chutz.\n\nReferentin: \nJannechie Groz\, schreibwellness.wordpress.com\n\n
 Veranstalterin:\nBeginen Köln e.V.\n\nAnsprechpartnerinnen:\nChristine M
 üthrath\, Tel.: 0221 / 9655820\, E-Mail: info@beginen.de\n\nKosten / Anme
 ldung:\nKostenbeitrag: 18 € / 15 € ermäßigt (Ermäßigte Beiträge g
 elten für Vereinsfrauen und Kölnpass-InhaberInnen.)\nAnmeldung erforderl
 ich.\n\nVeranstaltungsort:\nBeginentreff im Beginenhof Köln\, Unter Linde
 n 119\, 50859 Köln\, [map id=1048]
END:VEVENT
BEGIN:VTIMEZONE
TZID:Europe/Berlin
X-LIC-LOCATION:Europe/Berlin
BEGIN:DAYLIGHT
DTSTART:20220327T030000
TZOFFSETFROM:+0100
TZOFFSETTO:+0200
TZNAME:CEST
END:DAYLIGHT
END:VTIMEZONE
END:VCALENDAR