BEGIN:VCALENDAR
VERSION:2.0
PRODID:-//wp-events-plugin.com//7.2.3.1//EN
TZID:Europe/Berlin
X-WR-TIMEZONE:Europe/Berlin
BEGIN:VEVENT
UID:1335@frauenportal.koeln
DTSTART;TZID=Europe/Berlin:20181017T193000
DTEND;TZID=Europe/Berlin:20181017T220000
DTSTAMP:20180930T115247Z
URL:https://frauenportal.koeln/veranstaltungen/souveraen-im-gespraech/
SUMMARY:Souverän im Gespräch
DESCRIPTION:Wie stark ein Gespräch durch "unsichtbare" Faktoren beeinfluss
 t wird\, wie Erwartungen an den Verlauf oder das Gegenüber und die eigene
 n Haltung\, verblüfft immer wieder. Was bringen wir in das Gespräch mit 
 ein und was entfaltet seine Wirkung\, ehe das erste Wort gesprochen wird? 
 Eine gemeinsame Entdeckungsreise zum lösungsfokussierten Gesprächsauftak
 t.\n\nReferentin:\nJanine Ditscheid\, Systemischer Coach\, www.jdmk.de\n\n
 Veranstalterin:\nBundesverband der Frau in Business und Management e.V.\n\
 nAnsprechpartnerin:\nMaxi-Karine Stamer\, Tel.: 02204 / 9501-0\n\nKosten /
  Anmeldung:\nKostenbeitrag für Gäste: 17 Euro.\n\nVeranstaltungsort:\nHi
 nterhofsalon\, Aachener Str. 68\, 50674 Köln\, [map id=12652]
END:VEVENT
BEGIN:VTIMEZONE
TZID:Europe/Berlin
X-LIC-LOCATION:Europe/Berlin
BEGIN:DAYLIGHT
DTSTART:20180325T030000
TZOFFSETFROM:+0100
TZOFFSETTO:+0200
TZNAME:CEST
END:DAYLIGHT
END:VTIMEZONE
END:VCALENDAR