BEGIN:VCALENDAR
VERSION:2.0
PRODID:-//wp-events-plugin.com//7.2.3.1//EN
TZID:Europe/Berlin
X-WR-TIMEZONE:Europe/Berlin
BEGIN:VEVENT
UID:306@frauenportal.koeln
DTSTART;TZID=Europe/Berlin:20170426T193000
DTEND;TZID=Europe/Berlin:20170426T213000
DTSTAMP:20170529T051636Z
URL:https://frauenportal.koeln/veranstaltungen/speednetworking-mit-koelner
 -frauenorganisationen-ein-austausch-der-anderen-art-26-april-2017-mittwoch
 /
SUMMARY:Speednetworking mit Kölner Frauenorganisationen – ein Austausch 
 der anderen Art 
DESCRIPTION:\n          \n\n  Wer sind Sie und was tun Sie? Diese und weite
 re Fragen beantworten Vertreterinnen Kölner Frauenvereine\, -verbände un
 d -netzwerke auf eine etwas andere\, sehr unterhaltsame und lebendige Art:
  bei einem Speednetworking. Im Dialog erfahren die Teilnehmenden kurz und 
 knackig etwas über die Arbeitsschwerpunkte und Ziele der Organisationen.I
 n kürzester Zeit lernen sie viele interessante Menschen kennen\, mit dene
 n im Anschluss an das Kennenlernen die Gespräche vertieft werden können.
  Eine unterhaltsame Gelegenheit für alle frauenpolitisch Interessierten\,
  mehr über die jeweilige Organisation und übereinander zu erfahren.Moder
 ation: Isabel Gronack-WalzDas "Frühjahrstreffen" des AKF Köln ist offen 
 für alle interessierten Frauen!Hier ist die Einladung mit Programm: Speed
 networking mit Kölner Frauenorganisationen – ein Austausch der anderen 
 Art\, 26.04.17\, pdf-Datei\, 132 KBVeranstalterinnen:Arbeitskreis Kölner 
 Frauenvereinigungen (AKF)Melanchthon-Akademie Köln\,  www.melanchthon-aka
 demie.deAnsprechpartnerin:Dr. Marita Alami\, Tel.: 0221 / 1397550\, E-Mail
 : eval(decodeURIComponent('%76%61%72%20%73%3D%27%6E%69%6F%66%61%40%66%6B%6
 B%2D%65%6F%6E%6C%64%2E%65%27%3B%76%61%72%20%72%3D%27%27%3B%66%6F%72%28%76%
 61%72%20%69%3D%30%3B%69%3C%73%2E%6C%65%6E%67%74%68%3B%69%2B%2B%2C%69%2B%2B
 %29%7B%72%3D%72%2B%73%2E%73%75%62%73%74%72%69%6E%67%28%69%2B%31%2C%69%2B%3
 2%29%2B%73%2E%73%75%62%73%74%72%69%6E%67%28%69%2C%69%2B%31%29%7D%64%6F%63%
 75%6D%65%6E%74%2E%77%72%69%74%65%28%27%3C%61%20%68%72%65%66%3D%22%6D%61%69
 %6C%74%6F%3A%27%2B%72%2B%27%22%3E%69%6E%66%6F%40%61%6B%66%2D%6B%6F%65%6C%6
 E%2E%64%65%3C%2F%61%3E%27%29%3B'))Veranstaltungsort:Melanchthon-Akademie K
 öln\, Kartäuserwall 24b\, 50678 Köln\, Lageplan
END:VEVENT
BEGIN:VTIMEZONE
TZID:Europe/Berlin
X-LIC-LOCATION:Europe/Berlin
BEGIN:DAYLIGHT
DTSTART:20170326T030000
TZOFFSETFROM:+0100
TZOFFSETTO:+0200
TZNAME:CEST
END:DAYLIGHT
END:VTIMEZONE
END:VCALENDAR