BEGIN:VCALENDAR
VERSION:2.0
PRODID:-//wp-events-plugin.com//7.2.3.1//EN
TZID:Europe/Berlin
X-WR-TIMEZONE:Europe/Berlin
BEGIN:VEVENT
UID:2131@frauenportal.koeln
DTSTART;TZID=Europe/Berlin:20191103T150000
DTEND;TZID=Europe/Berlin:20191103T170000
DTSTAMP:20191030T195608Z
URL:https://frauenportal.koeln/veranstaltungen/spendenstaffel-mit-verdiens
 tvollen-koelnerinnen/
SUMMARY:Spendenstaffel mit verdienstvollen Kölnerinnen
DESCRIPTION:Zum 33-jährigen Jubiläum hat sich der Kölner Frauengeschicht
 sverein ein besonderes Event einfallen lassen: Prominente Kölnerinnen wer
 den am 3.11. ihre Aktions-\, Biographie- und Lieblingsorte vorstellen.\n\n
 Der Kölner Frauengeschichtsverein hat sich seit 1986 durch seine frauenhi
 storischen Führungen\, Ausstellungen oder Publikationen einen Namen gemac
 ht\, zudem durch Interventionen (Ratsturmfiguren\, symbolische und reale S
 traßenbenennungen) die Sichtbarkeit von Frauen im Stadtbild erhöht. Die 
 Mitarbeiterinnen vermitteln – wo immer sinnvoll - einen persönlichen Zu
 gang zur Geschichte. Während sie üblicherweise über Frauen\, Frauenorga
 nisationen und Lebensverhältnisse aus unterschiedlichen Zeiten sprechen\,
  werden bei der Spendenstaffel am 3.11. Kölnerinnen zu Wort kommen\, die 
 selbst Geschichte geschrieben haben:\n\nDie Holocaust-Überlebende Tamar D
 reifuss wird über ihre wundersame Errettung sprechen\, die Journalistin u
 nd Autorin Carmen Thomas (u.a. hallo Ü-Wagen) erinnert sich an ihre früh
 e Konzeption von Frauengruppen. Die jüngste Teilnehmerin redet über ihre
  Motivation\, bei Fridays for Future mitzumachen\, die Komikerin und Lesbe
 n-Aktivistin Hella von Sinnen rekapituliert ihr Leben und den Kampf um Gle
 ichberechtigung von Homosexuellen. Die afrodeutsche Autorin und Bloggerin 
 Esther Donkor trägt Familienerinnerungen zum Heumarkt vor und – last bu
 t not least – spricht die Oberbürgermeisterin Henriette Reker über ein
  ihr wichtiges frauenbezogenes Thema. Die Gruppe wandert derweil in eher i
 n gemütlichem Tempo von einer Erzählerin zur nächsten.\n\nDie Frauensta
 ffel am 3. November folgt dem Vereinsmotto\, Frauengeschichte sichtbar zu 
 machen. Sie dient zugleich der Spendenakquise: Die Bethe-Stiftung verdoppe
 lt Spenden\, die gemeinnützige Organisationen einwerben\, nochmals in ein
 er zuvor festgelegten Höhe und unterstützt damit Projekte durch besonder
 e Aufmerksamkeit und Geld.\n\nWas hat der Frauengeschichtsverein mit dem h
 offentlich reich sprudelnden Spendenfluss vor?\nDas Jahr 2020 steht im Zei
 chen von 75 Jahre Befreiung von Auschwitz sowie 75 Jahre Kriegsende. Die H
 istorikerinnen widmen sich dem Thema Frauen dieses Mal am Gedenktag 27. Ja
 nuar in der Antoniterkirche\, sie bereiten ferner eine Veranstaltung zum K
 riegsende und zur „Befreiung“ vom Nationalsozialismus vor. Im Februar 
 wird Rahab Njeri zum Black History Month ein Vortrag über Schwarze Frauen
  in der Geschichte halten. Sodann wird es – angesichts der zunehmenden D
 emokratieferne – im März zum Internationalen Frauentag einen neuen Rund
 gang über die Erkämpfung von demokratischen Rechten durch Kölner Frauen
  geben. Ein Frauenkollektiv - medica mondiale\, agisra\, Homaira Mansury v
 on der VHS und der Frauengeschichtsverein - organisiert für den Mai Vortr
 äge und Diskussionen über sexualisierte Gewalt an Frauen und Mädchen in
  Kriegsgebieten.\n\nWer den Verein unterstützen will kommt am 3. November
  um 15 Uhr zur Spendenstaffel für Frauengeschichte. Treffpunkt ist der In
 fopunkt im Kölner Hauptbahnhof. Eine Anmeldung ist aufgrund der beschrän
 kten Teilnahmezahl sinnvoll (info@frauengeschichtsverein.de). Statt einer 
 Teilnahmespende freuen sich die Historikerinnen auch um Unterstützung\, d
 ie gern etwas höher ausfallen darf\, auf das Aktionskonto IBAN DE56 3702 
 0500 0001 2479 02\, einzuzahlen zwischen November 2019 und Januar 2020.\n\
 nHier ist der Flyer: Spendenstaffel 2019 FGV (pdf-Datei\,  3 MB)\n\nVeran
 stalterin:\nKölner Frauengeschichtsverein e.V.\n\nKontakt:\nTel.: 0221 / 
 24 82 65\, E-Mail: info@frauengeschichtsverein.de\n\nAnmeldung:\nUm Anmel
 dung und Überweisung einer Spende wird gebeten.\n\nVeranstaltungsort:\nTr
 effpunkt 15 Uhr: Infopunkt im Kölner Hauptbahnhof
END:VEVENT
BEGIN:VTIMEZONE
TZID:Europe/Berlin
X-LIC-LOCATION:Europe/Berlin
BEGIN:STANDARD
DTSTART:20191027T020000
TZOFFSETFROM:+0200
TZOFFSETTO:+0100
TZNAME:CET
END:STANDARD
END:VTIMEZONE
END:VCALENDAR