BEGIN:VCALENDAR
VERSION:2.0
PRODID:-//wp-events-plugin.com//7.2.3.1//EN
TZID:Europe/Berlin
X-WR-TIMEZONE:Europe/Berlin
BEGIN:VEVENT
UID:4264@frauenportal.koeln
DTSTART;TZID=Europe/Berlin:20230420T190000
DTEND;TZID=Europe/Berlin:20230420T210000
DTSTAMP:20230331T113244Z
URL:https://frauenportal.koeln/veranstaltungen/stadt-geschlecht-und-affekt
 e/
SUMMARY:Stadt\, Geschlecht und Affekte
DESCRIPTION:Urbane Angsträume und „weibliche“ Angst\n\nIn diesem Impul
 svortrag werden aktuelle Daten zur (gefühlten) Sicherheit von Frauen und 
 Mädchen in deutschen Städten vorgestellt. Dem Begriff des „Angstraums
 “ wird sich aus kritisch-feministischer Perspektive geähert und es wird
  der Frage nachgegangen\, welche Personen(gruppen) wo\, wann und wovor Ang
 st haben und welche Folgen aus dieser Angst resultieren können. Zudem wer
 den Faktoren angeschaut\, die bei der Konstruktion von urbanen Angsträume
 n eine Rolle spielen. Ansätze des „Designing out fear“ werden aufgeze
 igt um zu diskutieren\, ob Angst wirklich weg designt werden kann oder die
  Wurzeln urbaner Angst tiefer liegen.\n\nReferentin:\nSonja Gaedicke\, Soz
 iologin und Geschlechterforscherin\, wiss. Mitarbeiterin am Institut für 
 Geschlechterstudien der TH Köln.\nSie befasst sich im Rahmen ihrer Disser
 ation an der RWTH Aachen mit urbanen Angsträumen aus feministisch-interse
 ktionaler Perspektive.\n\nVeranstalterin:\nBeginen Köln e.V.\n\nAnsprechp
 artnerin:\nChristine Müthrath\, Tel.: 0221 / 9655820\, E-Mail: info@begin
 en.de\n\nKosten:\nKostenbeitrag: 8\,- € / 5\,- €\n(Ermäßigte Beiträ
 ge gelten für Vereinsfrauen und Kölnpass-InhaberInnen)
LOCATION:Beginenfenster Köln\, Markmannsgasse 7\, 50667 Köln
GEO:50.936778;6.961977
X-APPLE-STRUCTURED-LOCATION;VALUE=URI;X-ADDRESS=Markmannsgasse 7\, Köln\, 
 50667\, Frauenorganisation\, Deutschland;X-APPLE-RADIUS=100;X-TITLE=Begine
 nfenster Köln:geo:50.936778,6.961977
END:VEVENT
BEGIN:VTIMEZONE
TZID:Europe/Berlin
X-LIC-LOCATION:Europe/Berlin
BEGIN:DAYLIGHT
DTSTART:20230326T030000
TZOFFSETFROM:+0100
TZOFFSETTO:+0200
TZNAME:CEST
END:DAYLIGHT
END:VTIMEZONE
END:VCALENDAR