BEGIN:VCALENDAR
VERSION:2.0
PRODID:-//wp-events-plugin.com//7.2.3.1//EN
TZID:Europe/Berlin
X-WR-TIMEZONE:Europe/Berlin
BEGIN:VEVENT
UID:1389@frauenportal.koeln
DTSTART;TZID=Europe/Berlin:20181107T190000
DTEND;TZID=Europe/Berlin:20181107T213000
DTSTAMP:20240521T084916Z
URL:https://frauenportal.koeln/veranstaltungen/stammtisch-bruehler-unterne
 hmerinnen-2/
SUMMARY:Stammtisch Brühler Unternehmerinnen 
DESCRIPTION:Offener Abend mit SBU. Agenda:\n\n 	Begrüßung und News bei SB
 U\n 	Kurzvorstellung jeder Netzwerkerin – Elivator Pitch 60 Sek.\n 	Frö
 hliches Klönen &amp\; Kennenlernen\n\nIn lockerer Runde geht es darum\, d
 ass sich Selbständige und Freiberuflerinnen aus Brühl und Region profess
 ionell untereinander austauschen\, vernetzen\, Anstöße zu neuen Ideen er
 langen\, ggf. sogar konstruktiv miteinander etwas auf die Beine stellen.\n
 \nVeranstalterin:\nStammtisch Brühler Unternehmerinnen\n\nAnsprechpartner
 in:\nMartina Kütter\, Tel.: 02235 / 9218882\, E-Mail: info@sbu-bruehl.de\
 n\nKosten / Anmeldung:\nWillkommen sind Frauen aus allen Branchen. Ob Ther
 apeutinnen\, Coaches\, Werbefachfrauen\, Steuerberaterinnen\, Gastronominn
 en\, Einzelhändlerinnen und viele mehr. Um Anmeldung wird gebeten.\nFür 
 Mitgliedsfrauen ist der Abend kostenlos\, Gastfrauen zahlen jeweils 5 Euro
 .\n\nVeranstaltungsort:\nErste-Hilfe-Schule\, Böningergasse 21-25\, 50321
  Brühl\, [map id=1094]
END:VEVENT
BEGIN:VTIMEZONE
TZID:Europe/Berlin
X-LIC-LOCATION:Europe/Berlin
BEGIN:STANDARD
DTSTART:20181028T020000
TZOFFSETFROM:+0200
TZOFFSETTO:+0100
TZNAME:CET
END:STANDARD
END:VTIMEZONE
END:VCALENDAR