BEGIN:VCALENDAR
VERSION:2.0
PRODID:-//wp-events-plugin.com//7.2.3.1//EN
TZID:Europe/Berlin
X-WR-TIMEZONE:Europe/Berlin
BEGIN:VEVENT
UID:1203@frauenportal.koeln
DTSTART;TZID=Europe/Berlin:20180918T193000
DTEND;TZID=Europe/Berlin:20180918T220000
DTSTAMP:20180731T152249Z
URL:https://frauenportal.koeln/veranstaltungen/stammtisch-des-wbc-cologne-
 7/
SUMMARY:Stammtisch des WBC-Cologne
DESCRIPTION:Der Stammtisch ist eine gute Gelegenheit gleichgesinnte Frauen 
 kennenzulernen\, sich in lockerer Atmosphäre auszutauschen und Kontakte z
 u knüpfen.\n\nEs erwartet Sie ein interessanter Impulsvortrag von einer d
 er WBC-Expertinnen mit anschließendem Austausch und Diskussion.\n\nInsbes
 ondere über das Kommen neuer Kolleginnen wird sich gefreut.\n\nVeranstalt
 erin:\nWomans Business Club Cologne\n\nAnsprechpartnerin:\nKarin Punitzer\
 , Tel.: 0177 / 28 23 173\, E-Mail: info@wbc-cologne.de\n\nKosten:\nKein Ko
 stenbeitrag.\n\nVeranstaltungsort:\nJonny Turista\, Tapas-Bar\, Mauritiuss
 teinweg 74\, 50676 Köln\, [map id=1144]
END:VEVENT
BEGIN:VTIMEZONE
TZID:Europe/Berlin
X-LIC-LOCATION:Europe/Berlin
BEGIN:DAYLIGHT
DTSTART:20180325T030000
TZOFFSETFROM:+0100
TZOFFSETTO:+0200
TZNAME:CEST
END:DAYLIGHT
END:VTIMEZONE
END:VCALENDAR