BEGIN:VCALENDAR
VERSION:2.0
PRODID:-//wp-events-plugin.com//7.2.3.1//EN
TZID:Europe/Berlin
X-WR-TIMEZONE:Europe/Berlin
BEGIN:VEVENT
UID:4683@frauenportal.koeln
DTSTART;TZID=Europe/Berlin;VALUE=DATE:20240203
DTEND;TZID=Europe/Berlin;VALUE=DATE:20240204
DTSTAMP:20240131T142235Z
URL:https://frauenportal.koeln/veranstaltungen/start-100-tage-100-taschen-
 phantasievolles-naehprojekt-der-jva-koeln/
SUMMARY:Start: 100 Tage – 100 Taschen – Phantasievolles Nähprojekt der
  JVA Köln
DESCRIPTION:– Samstag\, 3. Februar 2024 14.30 Uhr bis Sonntag\, 4. Februa
 r 2024 18.00 Uhr –\n\nDie Leiterin der Modenäherei des Gefängnisses\, 
 Katrin Haller\, stellte ihren Auszubildenden eine neue Herausforderung im 
 Hinblick auf Kreativität und Wiederverwertung. Neben fachlicher Kompetenz
  ging es darum\, das Selbstvertrauen in die eigenen Fähigkeiten durch 100
  kleine Erfolgserlebnisse zu erhöhen.\n\nAm 3. und 4. Februar wird eine g
 roße Auswahl an Taschen in der Ausstellung "MOTIVE – Kunst von Inhaftie
 rten + Geschichte der Frauenkriminalität" zu sehen sein.\n\nÖffnungszeit
 en:\nDienstag bis Samstag 14 - 18 Uhr\, Sonntag 11 -18  Uhr\n\nEintrittspr
 eise:\nErwachsene: 10 €\, ermäßigt: 6 €\, Gruppen ab 5 Personen: 6 
 €\n\nVeranstalterin:\nFrauenmuseum\n\nAnsprechpartnerin:\nPetra Peter-Fr
 iedrichs\, Tel: 0228/ 691344\, E-Mail: petra.peter-friedrichs@frauenmuseum
 .de\n
LOCATION:Frauenmuseum\, Im Krausfeld 10\, 53111 Bonn
GEO:50.74042739999999;7.092034399999989
X-APPLE-STRUCTURED-LOCATION;VALUE=URI;X-ADDRESS=Im Krausfeld 10\, Bonn\, 53
 111\, Frauenorganisation\, Deutschland;X-APPLE-RADIUS=100;X-TITLE=Frauenmu
 seum:geo:50.74042739999999,7.092034399999989
END:VEVENT
BEGIN:VTIMEZONE
TZID:Europe/Berlin
X-LIC-LOCATION:Europe/Berlin
BEGIN:STANDARD
DTSTART:20231029T020000
TZOFFSETFROM:+0200
TZOFFSETTO:+0100
TZNAME:CET
END:STANDARD
END:VTIMEZONE
END:VCALENDAR