BEGIN:VCALENDAR
VERSION:2.0
PRODID:-//wp-events-plugin.com//7.2.3.1//EN
TZID:Europe/Berlin
X-WR-TIMEZONE:Europe/Berlin
BEGIN:VEVENT
UID:1950@frauenportal.koeln
DTSTART;TZID=Europe/Berlin;VALUE=DATE:20190626
DTEND;TZID=Europe/Berlin;VALUE=DATE:20190627
DTSTAMP:20190531T132652Z
URL:https://frauenportal.koeln/veranstaltungen/start-51meins-fortbildung-v
 on-souzan-alsaba/
SUMMARY:Start: 5+1=Meins® Fortbildung von Souzan AlSaba
DESCRIPTION:- 26. und 27. Juni 2019 von 10.00 bis 18.00 Uhr -\n\n5+1=Meins
 ® ist das von Souzan AlSabah konzipierte\, ganzheitliche und diskriminier
 ungsfreie Sexualpädagogik-\, Gesundheits- und Präventionsprogramm für M
 ädchen* und junge Frauen*. \n\nAnatomische Gesundheit und Prävention \nG
 rundhaltung der 5+1=Meins®-Arbeit ist die zentrale Positionierung jeder E
 inzelnen. Jede ist der Mittelpunkt des eigenen Lebens\; viel zu viele Mens
 chen definieren sich selbst über Andere. So beginnt das erste Modul mit d
 en Grundlagen der eigenen Körperlichkeit bzw. Weiblichkeit. Neue Worte un
 d Selbstdefinitionen sowie die Aufklärung über polarisierende Mythen und
  eine ausführliche\, durchaus lustige Einheit über den weiblichen Zyklus
  sind Inhalte des Moduls. Dazu werden in Theorie und Praxis die folgenden 
 Themen betrachtet.\n\nSeelische Gesundheit und Resilienz  \nIm zweiten Mod
 ul geht es um die erweiterte Selbst-Wahrnehmung und die individuelle Pers
 önlichkeit. Warum unterschiedliche Menschen in der gleichen Situation ver
 schieden reagieren und wie viel oder wenig das mit der sogenannten „Kult
 ur“ zu tun hat. In diesem Modul werden die 5+1=Meins®-Ich-Stimmen betra
 chtet und die Arbeit in der eigenen Achse. Aufbauend auf Modul eins wird d
 em freundlichen Blick auf den eigenen Trieb nun eine Stimme gegeben\, die 
 neben Kopf\, Herz und Bauch zur Entscheidungsfindung beiträgt. Als unters
 tützende Methode für Resilienzbildung wird die dreistufige 5+1=Meins®-S
 tabilisierung vorgestellt. \n \nEs gibt während der gesamten Fortbildung 
 die Möglichkeit eigene Fallbeispiele einzubringen. \n\nHier ist die Einla
 dung: Einladung 5+1= Meins Fortbildung (pdf-Datei\, 480 KB) \n\nReferentin
 :\nSouzan AlSabah\, www.alsabah.de\n\nVeranstalterinnen:\nDaMigra e.V.\, w
 ww.damigra.de/mut-projekt\nInterkulturelles Frauen- und Mädchen-Gesundhei
 tszentrum – IFMGZ Holla e.V.\, www.holla-ev.de\n\nAnsprechpartnerin:\nEv
 a und Nura für Holla e.V.\, Tel.: 0221 / 93 54 66 99\, E-Mail: info@holla
 -ev.de\n\nKosten / Anmeldung:\nUm Anmeldung wird gebeten bei Farah Taleb\,
  Projektmitarbeiterin MUT-Macherinnen* Projekt Düsseldorf\, DaMigra e.V.\
 , Tel.: 0211 / 36773374\, E-Mail: taleb@damigra.de \n\nVeranstaltungsort:\
 nIFMGZ HOLLA e.V.\, Industriestr. 131 c\, 50 996 Köln\, [map id=11598]
END:VEVENT
BEGIN:VTIMEZONE
TZID:Europe/Berlin
X-LIC-LOCATION:Europe/Berlin
BEGIN:DAYLIGHT
DTSTART:20190331T030000
TZOFFSETFROM:+0100
TZOFFSETTO:+0200
TZNAME:CEST
END:DAYLIGHT
END:VTIMEZONE
END:VCALENDAR