BEGIN:VCALENDAR
VERSION:2.0
PRODID:-//wp-events-plugin.com//7.2.3.1//EN
TZID:Europe/Berlin
X-WR-TIMEZONE:Europe/Berlin
BEGIN:VEVENT
UID:3918@frauenportal.koeln
DTSTART;TZID=Europe/Berlin;VALUE=DATE:20221123
DTEND;TZID=Europe/Berlin;VALUE=DATE:20221124
DTSTAMP:20241115T123718Z
URL:https://frauenportal.koeln/veranstaltungen/start-ausstellung-angst-tri
 fft-mut/
SUMMARY:Start: Ausstellung „Angst trifft Mut“
DESCRIPTION:Stellvertretend für die von häuslicher Gewalt betroffenen Fra
 uen stehen die Schaufensterpuppen\, in Orange gekleidet\, auf den Aufstell
 ern neben ihnen die Zusammenfassung ihrer ganz persönlichen Geschichten. 
 Diese sind ein Sinnbild\, ANGST zu überwinden und Betroffenen MUT zu mach
 en.\n\nDie Ausstellung „ANGST trifft MUT“ macht darauf aufmerksam\, da
 ss häusliche Gewalt weltweit immer noch ein großes Problem ist und in al
 len Kulturen und sozialen Schichten vorkommt. Sie soll dazu anregen\, übe
 r Gewalt gegen Frauen ins Gespräch zu kommen: Häusliche Gewalt darf nich
 t hingenommen werden. Wir dürfen Frauen in unseren Familien\, in unserer 
 Nachbarschaft und auch Kolleginnen nicht alleine lassen\, wenn wir Anzeich
 en von häuslicher Gewalt bemerken.\n\nVeranstalterin:\nAktionsbündnis Or
 ange Days Köln\, www.orangedays-koeln.de\n\nVeranstaltungsort:\nTORÉ im 
 Kulturbunker Köln-Mülheim\, Berliner Str. 20\, 51053 Köln\, [map id=179
 03]
END:VEVENT
BEGIN:VTIMEZONE
TZID:Europe/Berlin
X-LIC-LOCATION:Europe/Berlin
BEGIN:STANDARD
DTSTART:20221030T020000
TZOFFSETFROM:+0200
TZOFFSETTO:+0100
TZNAME:CET
END:STANDARD
END:VTIMEZONE
END:VCALENDAR