BEGIN:VCALENDAR
VERSION:2.0
PRODID:-//wp-events-plugin.com//7.2.3.1//EN
TZID:Europe/Berlin
X-WR-TIMEZONE:Europe/Berlin
BEGIN:VEVENT
UID:1958@frauenportal.koeln
DTSTART;TZID=Europe/Berlin;VALUE=DATE:20190616
DTEND;TZID=Europe/Berlin;VALUE=DATE:20190617
DTSTAMP:20190731T193435Z
URL:https://frauenportal.koeln/veranstaltungen/start-ausstellung-courage/
SUMMARY:Start: Ausstellung „COURAGE“
DESCRIPTION:- Dauer der Ausstellung: 16. Juni – 30. Juli 2019 - \n\nParal
 lel zurr Ausstellung „Aufbruch der Frauen in die Politik der Moderne - v
 om Frauenwahlrecht zum Frauenmandat“ ist diese Variante in Zusammenarbei
 t mit dem Mittelrhein-Museum Koblenz entstanden. \n\nZu sehen sind Werke v
 on Erika Beyhl\, Ines Braun\, Corinna Heumann\, Firouzeh Goergen-Ossouli\,
  Alina Klass\, Violetta Richard\,\nJohanna Sarah Schlenk\, Julja Schneider
 \, Ellen Sinzig und Iris Stephan.\n\nDen historischen Teil hat Bettina Bab
  beigetragen. \n\nVeranstalterin:\nFrauenmuseum\n\nAnsprechpartnerin:\nPet
 ra Peter-Friedrichs\, Tel: 0228/ 691344\, E-Mail: petra.peter-friedrichs@f
 rauenmuseum.de\n&nbsp\;\nVeranstaltungsort:\nFrauenmuseum\, Im Krausfeld 1
 0\, 53111 Bonn\, [map id=904]
END:VEVENT
BEGIN:VTIMEZONE
TZID:Europe/Berlin
X-LIC-LOCATION:Europe/Berlin
BEGIN:DAYLIGHT
DTSTART:20190331T030000
TZOFFSETFROM:+0100
TZOFFSETTO:+0200
TZNAME:CEST
END:DAYLIGHT
END:VTIMEZONE
END:VCALENDAR