BEGIN:VCALENDAR
VERSION:2.0
PRODID:-//wp-events-plugin.com//7.2.3.1//EN
TZID:Europe/Berlin
X-WR-TIMEZONE:Europe/Berlin
BEGIN:VEVENT
UID:2658@frauenportal.koeln
DTSTART;TZID=Europe/Berlin:20200328T120000
DTEND;TZID=Europe/Berlin:20200328T180000
DTSTAMP:20200316T145310Z
URL:https://frauenportal.koeln/veranstaltungen/start-beginen-osterbasar-5/
SUMMARY:Start: Beginen-Osterbasar
DESCRIPTION:Der Termin findet nicht statt.\n\nAuch in diesem Jahr findet wi
 eder der Beginen-Osterbasar statt. Kunst und Krempel\, Kitsch und Kurioses
  können erstanden werden.\n\nTermine:\n28. + 29. März\n04. + 05. April\n
 11. + 13. April\n18. + 19. April\n\njeweils von 12.00 – 18.00 Uhr\n\nVer
 anstalterin:\nBeginen Köln e.V.\n\nAnsprechpartnerinnen:\nChristine Müth
 rath\, Tel.: 0221 / 9655820\, E-Mail: info@beginen.de\n\nVeranstaltungsort
 :\nBeginenfenster\, Markmannsgasse 7\, 50667 Köln\, [map id=891]
END:VEVENT
BEGIN:VTIMEZONE
TZID:Europe/Berlin
X-LIC-LOCATION:Europe/Berlin
BEGIN:STANDARD
DTSTART:20191027T020000
TZOFFSETFROM:+0200
TZOFFSETTO:+0100
TZNAME:CET
END:STANDARD
END:VTIMEZONE
END:VCALENDAR