BEGIN:VCALENDAR
VERSION:2.0
PRODID:-//wp-events-plugin.com//7.2.3.1//EN
TZID:Europe/Berlin
X-WR-TIMEZONE:Europe/Berlin
BEGIN:VEVENT
UID:1660@frauenportal.koeln
DTSTART;TZID=Europe/Berlin:20190213T090000
DTEND;TZID=Europe/Berlin:20190213T160000
DTSTAMP:20181207T143844Z
URL:https://frauenportal.koeln/veranstaltungen/start-besser-texten-mit-met
 hode-und-gefuehl-4/
SUMMARY:Start: Besser texten - mit Methode &amp\; Gefühl
DESCRIPTION:13.02. - 14.02.2019\n\nJulia Epstein zu ihrem Angebot:\n\n"Sie 
 brauchen ein überzeugendes Mailing\, einen funktionierenden Flyer oder ei
 ne gewinnende Website? Verbindliche Briefe oder verständliche Anleitungen
 ? Oder Sie wünschen sich Kleingedrucktes\, das Vertrauen weckt statt Angs
 t zu machen?\n\nDann gehen Sie ins Seminar von Julia Epstein in der bitmap
  GmbH in Köln. Da lernen Sie\, wie Sie wirksame Texte schreiben. Und alle
 s\, was Sie lernen\, setzen Sie direkt in die Tat um.\n\nSie nehmen also j
 ede Menge Wissen mit und mindestens einen Text\, den Sie sofort rausschick
 en\, online stellen oder drucken lassen können. Und der dann sehr wahrsch
 einlich das bewirkt\, was Sie bewirken wollen. Gut\, oder? \n\nDirekt anme
 lden: unter 0221-802540 oder per E-Mail an info@bitmap-gmbh.de\n\nMehr Inf
 os bei Text-Aufgaben: Julia Epstein\n\nUnd falls Sie Ihr Know-how auffrisc
 hen wollen\, ist die Text-Werkstatt von Julia Epstein was für Sie: Komm\,
  wir machen Texte besser!"
END:VEVENT
BEGIN:VTIMEZONE
TZID:Europe/Berlin
X-LIC-LOCATION:Europe/Berlin
BEGIN:STANDARD
DTSTART:20181028T020000
TZOFFSETFROM:+0200
TZOFFSETTO:+0100
TZNAME:CET
END:STANDARD
END:VTIMEZONE
END:VCALENDAR