BEGIN:VCALENDAR
VERSION:2.0
PRODID:-//wp-events-plugin.com//7.2.3.1//EN
TZID:Europe/Berlin
X-WR-TIMEZONE:Europe/Berlin
BEGIN:VEVENT
UID:5710@frauenportal.koeln
DTSTART;TZID=Europe/Berlin;VALUE=DATE:20250714
DTEND;TZID=Europe/Berlin;VALUE=DATE:20250715
DTSTAMP:20250627T143817Z
URL:https://frauenportal.koeln/veranstaltungen/start-das-sommer-experiment
 -7-tage-clownin-sein-7/
SUMMARY:Start: Das Sommer-Experiment: 7-Tage Clownin Sein
DESCRIPTION:Das Sommer Experiment: Sieben Tage Clownin Sein\nfindet vom 14.
  – 20. Juli 2025 statt.\n\nDie eigene CharakterClownin bietet wunderbare
  Möglichkeiten der persönlichen Entwicklung und Freiheit\, der Spielfreu
 de und Verwandlung. Mit ihr gewinnen wir Mut\, nicht alltägliches Verhalt
 en auszuprobieren.\n\nEigene Bewegungsgewohnheiten und Charakterzüge zu e
 rkennen und sie mit den Möglichkeiten der clownesken Ausdrucksweisen zu v
 erbinden\, ist Inhalt des grundlegenden Körpertrainings.\n\nDie Sensibili
 tät und der Respekt für unsere Grenzen lässt uns in der Spielfreude ble
 iben\, die wir mit anderen Menschen teilen lernen.\n\nAusgewählte Spielth
 emen sind:\n\n• Die Entwicklung clownesker Ausdrucksformen\n• Der spie
 lerische Ausdruck von Gefühlen und Emotionen\n• Der kreative Umgang mit
  Wort und Stimme\n• Die Stärkung der Vorstellungskraft\n• Die nonverb
 ale Kommunikation\n\nLeitung: Denise May\n\nTermin: 14. – 20. Juli 2025 
 (7 Tage Mo-So)\nZeiten: Mo – Sa: 10.00-16.00 Uhr\, So: 10.00-13.00 Uhr\n
 Kosten: 495€\n\nBitte in bequemer Kleidung kommen und Turn-\, Gymnastiks
 chlüppchen oder Stoppersocken mitbringen.\n\nAnmeldung und weitere Inform
 ationen: Denise May\, ClownsZeit – Die Clownsschule für Frauen
END:VEVENT
BEGIN:VTIMEZONE
TZID:Europe/Berlin
X-LIC-LOCATION:Europe/Berlin
BEGIN:DAYLIGHT
DTSTART:20250330T030000
TZOFFSETFROM:+0100
TZOFFSETTO:+0200
TZNAME:CEST
END:DAYLIGHT
END:VTIMEZONE
END:VCALENDAR