BEGIN:VCALENDAR
VERSION:2.0
PRODID:-//wp-events-plugin.com//7.2.3.1//EN
TZID:Europe/Berlin
X-WR-TIMEZONE:Europe/Berlin
BEGIN:VEVENT
UID:5126@frauenportal.koeln
DTSTART;TZID=Europe/Berlin:20240727T100000
DTEND;TZID=Europe/Berlin:20240727T170000
DTSTAMP:20240710T094628Z
URL:https://frauenportal.koeln/veranstaltungen/start-dem-leben-vertrauen/
SUMMARY:Start: Dem Leben vertrauen
DESCRIPTION:Wie gelingt es uns eigentlich\, Vertrauen zu fassen? Zu uns sel
 bst\, in andere Menschen\, in das Leben?\nIn einem zweitägigen Seminar (S
 a. 27.-So. 28.07\, 10h bis 17h) wird sich auf die Spur dieses elementaren 
 Grundgefühls begeben. Auf vielfältige Weise und im lebendigen Austausch 
 werden die Momente im Leben\, in denen uns unsere Fähigkeit zu vertrauen 
 weitergebracht hat\, erinnert und vergegenwärtigt - auch\, um mit gestär
 ktem Bewusstsein und gefestigtem Vertrauen die Gestaltung der Zukunft in d
 en Blick zu nehmen.\n\nSeminarleiterinnen:\nElisabeth Habel: Tanzpädagogi
 n\, Kulturgeragogin\, Trainerin für Biografiearbeit \nund Annette Lentze:
  Kunsttherapeutin\, Künstlerin\, Autorin\n\nKostenbeitrag: 150\,00 €\nA
 nmeldung: elhabell@web.de\n\nEine Veranstaltung des Hinterhofsalons.
END:VEVENT
BEGIN:VTIMEZONE
TZID:Europe/Berlin
X-LIC-LOCATION:Europe/Berlin
BEGIN:DAYLIGHT
DTSTART:20240331T030000
TZOFFSETFROM:+0100
TZOFFSETTO:+0200
TZNAME:CEST
END:DAYLIGHT
END:VTIMEZONE
END:VCALENDAR