BEGIN:VCALENDAR
VERSION:2.0
PRODID:-//wp-events-plugin.com//7.2.3.1//EN
TZID:Europe/Berlin
X-WR-TIMEZONE:Europe/Berlin
BEGIN:VEVENT
UID:3135@frauenportal.koeln
DTSTART;TZID=Europe/Berlin;VALUE=DATE:20210122
DTEND;TZID=Europe/Berlin;VALUE=DATE:20210123
DTSTAMP:20210108T124956Z
URL:https://frauenportal.koeln/veranstaltungen/start-dreitaegige-fortbildu
 ng-trauma-und-intersektionalitaet-im-kontext-flucht/
SUMMARY:Start: Dreitägige Fortbildung „Trauma und Intersektionalität im
  Kontext Flucht“
DESCRIPTION:22. bis 24. Januar 2021\,\nFreitag und Samstag jeweils von 10- 
 18 Uhr und Sonntag von 10 - 16 Uhr\n\nViele Geflüchtete haben vor\, währ
 end oder nach ihrer Flucht traumatische Erlebnisse wie Diskriminierung ode
 r (sexualisierte) Gewalt überlebt. Für Menschen mit Gewalterfahrung ist 
 daher ein Schutz vor weiteren Ohnmachtserfahrungen entscheidend. Wie kann 
 eine feministische und rassismuskritische Arbeit aussehen\, die Be_hinderu
 ngen und Ausschlüsse sichtbar macht? Denn oft werden Rassismus\, Ableismu
 s oder Sexismus nur separat betrachtet. Um das eigene professionelle Hande
 ln zu reflektieren\, sollen diese Mehrfachdiskriminierungen und Ausgrenzun
 gserfahrungen geflüchteter Menschen zusammen aus einer Traumaperspektive 
 angeschaut werden. Gemeinsam wird überlegt\, wie ein intersektionales Tra
 umaverständnis aussehen kann\, das Erfahrungen wie sexualisierte Gewalt\,
  Exklusion und Rassismus anerkennt und Empowerment für geflüchtete Mensc
 hen ermöglicht.\n\nInhalte der drei Fortbildungstage von medica mondiale\
 n\n 	Auswirkungen von Trauma und Gewalt im Kontext von Flucht\n 	Wie werde
 n Menschen verletzbar\, behindert und ausgegrenzt\n 	Auseinandersetzung mi
 t den Folgen von sexualisierter Gewalt\, Be_hinderung\, Fluchterfahrungen 
 und Rassismus\n 	Persönliche Auseinandersetzung mit den Wirkungsweisen un
 d Folgen von Rassismus\n 	Auswirkungen von Rassismus auf die psychische Ge
 sundheit\n 	STA – stress- und traumasensibler Ansatz ® von medica mondi
 ale\n 	Transfer auf die eigene Arbeitspraxis: Wie können wir die psychoso
 ziale Arbeit mit geflüchteten Menschen (mit Be_hinderungen) rassismus- un
 d traumasensibel gestalten?\n\nDie drei Tage werden durch die Trainerinnen
  prozessorientiert gestaltet und bieten Raum für Selbstreflexion\, Austau
 sch und Erfahrungslernen kombiniert mit praxisnahem Input und Übungen. Da
 bei geht es vielmehr um Sensibilisierung und Haltung als um die Vermittlun
 g von Tools und Checklisten. Die Fortbildung ermöglicht\, die eigene Priv
 ilegien und Diskriminierungserfahrungen sowie das professionelle Handeln a
 us einer intersektionalen Perspektive zu reflektieren.\n\nReferentinnen: D
 ileta Sequeira\, Pia Frohwein\, Petra Keler\n\nVeranstalterin:\nmedica mon
 diale e.V.\n\nKontakt:\nPetra Keller\, Referentin Fortbildungsprogramme\, 
 E-Mail: seminare@medicamondiale.org\n\nKosten / Anmeldung:\nDie Fortbildun
 g wendet sich an Hauptamtliche und Aktivist*innen\, die in der Arbeit mit 
 geflüchteten Menschen tätig sind und Basis- oder mittlere Kenntnisse zu 
 den Themenbereichen haben. Sie ist nicht als vertiefende Fortbildung für 
 Personen mit umfassenden Fachwissen in den Themenbereichen konzipiert.\nSo
 lidaritätsbeitrag 160\,00 Euro\nregulärer Beitrag 119\,70 Euro (39\,90 p
 ro Tag)\nermäßigter Beitrag 75\,00 Euro\nAnmeldung unter www.medicamondi
 ale.org\nAnmeldefrist: 5. Januar 2021\n\nVeranstaltungsort:\nonline
END:VEVENT
BEGIN:VTIMEZONE
TZID:Europe/Berlin
X-LIC-LOCATION:Europe/Berlin
BEGIN:STANDARD
DTSTART:20201025T020000
TZOFFSETFROM:+0200
TZOFFSETTO:+0100
TZNAME:CET
END:STANDARD
END:VTIMEZONE
END:VCALENDAR