BEGIN:VCALENDAR
VERSION:2.0
PRODID:-//wp-events-plugin.com//7.2.3.1//EN
TZID:Europe/Berlin
X-WR-TIMEZONE:Europe/Berlin
BEGIN:VEVENT
UID:2709@frauenportal.koeln
DTSTART;TZID=Europe/Berlin;VALUE=DATE:20200904
DTEND;TZID=Europe/Berlin;VALUE=DATE:20200905
DTSTAMP:20200529T134305Z
URL:https://frauenportal.koeln/veranstaltungen/start-dreitaegige-fortbildu
 ng-trauma-und-intersektionalitaet-im-kontext-fluchtstart-zweitaegige-fortb
 ildung-zum-stress-und-traumasensiblen-umgang-mit-gefluechteten-menschen-3/
SUMMARY:Start: Dreitägige Fortbildung „Trauma und Intersektionalität im
  Kontext Flucht“
DESCRIPTION:4. bis 6. September 2020\,\nFreitag und Samstag\, jeweils von 1
 0- 18 Uhr und Sonntag von 10 - 16 Uhr\n\nViele Geflüchtete haben vor\, w
 ährend oder nach ihrer Flucht traumatische Erlebnisse wie Diskriminierung
  oder (sexualisierte) Gewalt überlebt. Für Menschen mit Gewalterfahrung 
 ist daher ein Schutz vor weiteren Ohnmachtserfahrungen entscheidend. Wie k
 ann eine feministische und rassismuskritische Arbeit aussehen\, die Be_hin
 derungen und Ausschlüsse sichtbar macht? Denn oft werden Rassismus\, Able
 ismus oder Sexismus nur separat betrachtet. Um das eigene professionelle H
 andeln zu reflektieren\, sollen diese Mehrfachdiskriminierungen und Ausgre
 nzungserfahrungen geflüchteter Menschen zusammen aus einer Traumaperspekt
 ive angeschaut werden. Gemeinsam wird überlegt\, wie ein intersektionales
  Traumaverständnis aussehen kann\, das Erfahrungen wie sexualisierte Gewa
 lt\, Exklusion und Rassismus anerkennt und Empowerment für geflüchtete M
 enschen ermöglicht.\n\nInhalte der drei Fortbildungstage von medica mondi
 ale\n\n 	Auswirkungen von Trauma und Gewalt im Kontext von Flucht\n 	Wie w
 erden Menschen verletzbar\, behindert und ausgegrenzt\n 	Auseinandersetzun
 g mit den Folgen von sexualisierter Gewalt\, Be_hinderung\, Fluchterfahrun
 gen und Rassismus\n 	Persönliche Auseinandersetzung mit den Wirkungsweise
 n und Folgen von Rassismus\n 	Auswirkungen von Rassismus auf die psychisch
 e Gesundheit\n 	STA – stress- und traumasensibler Ansatz ® von medica m
 ondiale\n 	Transfer auf die eigene Arbeitspraxis: Wie können wir die psyc
 hosoziale Arbeit mit geflüchteten Menschen (mit Be_hinderungen) rassismus
 - und traumasensibel gestalten?\n\nDie drei Tage werden durch die Traineri
 nnen prozessorientiert gestaltet und bieten Raum für Selbstreflexion\, Au
 stausch und Erfahrungslernen kombiniert mit praxisnahem Input und Übungen
 . Dabei geht es vielmehr um Sensibilisierung und Haltung als um die Vermit
 tlung von Tools und Checklisten. Die Fortbildung ermöglicht\, die eigene 
 Privilegien und Diskriminierungserfahrungen sowie das professionelle Hande
 ln aus einer intersektionalen Perspektive zu reflektieren.\n\nReferentinne
 n: Dileta Sequeira\, Julia Ha\, Gisela Berger\n\nVeranstalterin:\nmedica m
 ondiale e.V.\n\nKontakt:\n0221 / 931898-46\, E-Mail: seminare@medicamondia
 le.org\n\nKosten / Anmeldung:\nDie Fortbildung wendet sich an Hauptamtlich
 e und Aktivist*innen\, die in der Arbeit mit geflüchteten Menschen tätig
  sind.\nSolidaritätsbeitrag 160\,00 Euro\nregulärer Beitrag 119\,70 Euro
  (39\,90 pro Tag)\nermäßigter Beitrag 75\,00 Euro\nAnmeldung unter www.m
 edicamondiale.org\nAnmeldefrist: 09. Juni 2020\n\nVeranstaltungsort:\nJuge
 ndherberge Köln-Riehl City-Hostel\, An der Schanz 14\, 50735 Köln\, [map
  id=1095]
END:VEVENT
BEGIN:VTIMEZONE
TZID:Europe/Berlin
X-LIC-LOCATION:Europe/Berlin
BEGIN:DAYLIGHT
DTSTART:20200329T030000
TZOFFSETFROM:+0100
TZOFFSETTO:+0200
TZNAME:CEST
END:DAYLIGHT
END:VTIMEZONE
END:VCALENDAR