BEGIN:VCALENDAR
VERSION:2.0
PRODID:-//wp-events-plugin.com//7.2.3.1//EN
TZID:Europe/Berlin
X-WR-TIMEZONE:Europe/Berlin
BEGIN:VEVENT
UID:5121@frauenportal.koeln
DTSTART;TZID=Europe/Berlin;VALUE=DATE:20240705
DTEND;TZID=Europe/Berlin;VALUE=DATE:20240706
DTSTAMP:20240628T110353Z
URL:https://frauenportal.koeln/veranstaltungen/start-edelgard-mobil-summer
 jam-anlaufstelle-fuer-frauen-und-maedchen-5/
SUMMARY:Start: Edelgard mobil - Summerjam: Anlaufstelle für Frauen und Mä
 dchen
DESCRIPTION:Sie erreichen EDELGARD mobil telefonisch unter: 0221 / 221-2777
 7\n\nDas Beratungsmobil ist eine Anlaufstelle für Frauen und Mädchen bei
  Großevents. Erfahrene und geschulte Fachfrauen hören Ihnen zu und bespr
 echen mit Ihnen die nächsten Schritte nach einer Belästigung\, Nötigung
  oder Vergewaltigung.\n\nKommen Sie vorbei oder rufen Sie an:\n\n 	Wenn Si
 e verunsichert sind\n 	Wenn Sie sich bedroht fühlen und Unterstützung br
 auchen\n 	Wenn Sie einen sexuellen Übergriff beobachtet haben und Rat mö
 chten\n 	Wenn Sie sexuell belästigt\, genötigt oder vergewaltigt worden 
 sind\n\nIm Beratungsmobil erhalten Sie:\n\n 	Professionelle Beratung und U
 nterstützung\n 	Einen sicheren Ort\, um auf vertraute Personen zu warten\
 n 	Gegebenenfalls Begleitung zur Polizei\, ins Krankenhaus oder zur Anonym
 en Spurensicherung\n\n\nSummerjam 2024\n\nFreitag\, 5. Juli – Sonntag\, 
 7. Juli 2024\njeweils von 20 – 1 Uhr\n\nVeranstalterin:\nKölner Initiat
 ive gegen Sexualisierte Gewalt\, www.edelgard.koeln\n\nAnsprechpartnerin:\
 nMarina Walch\, Tel.: 0221 / 99564060\, E-Mail: info@edelgard.koeln\n\nBer
 atungsmobil:\nIm Vibez Village auf P2
LOCATION:Fühlinger See P2\, Fühlinger See P2\, 50769 Köln
GEO:51.0185733;6.925565199999937
X-APPLE-STRUCTURED-LOCATION;VALUE=URI;X-ADDRESS=Fühlinger See P2\, Köln\,
  50769\, Veranstaltungsort\, Deutschland;X-APPLE-RADIUS=100;X-TITLE=Fühli
 nger See P2:geo:51.0185733,6.925565199999937
END:VEVENT
BEGIN:VTIMEZONE
TZID:Europe/Berlin
X-LIC-LOCATION:Europe/Berlin
BEGIN:DAYLIGHT
DTSTART:20240331T030000
TZOFFSETFROM:+0100
TZOFFSETTO:+0200
TZNAME:CEST
END:DAYLIGHT
END:VTIMEZONE
END:VCALENDAR