BEGIN:VCALENDAR
VERSION:2.0
PRODID:-//wp-events-plugin.com//7.2.3.1//EN
TZID:Europe/Berlin
X-WR-TIMEZONE:Europe/Berlin
BEGIN:VEVENT
UID:5122@frauenportal.koeln
DTSTART;TZID=Europe/Berlin;VALUE=DATE:20240708
DTEND;TZID=Europe/Berlin;VALUE=DATE:20240709
DTSTAMP:20240628T122626Z
URL:https://frauenportal.koeln/veranstaltungen/start-form-im-wandel-sommer
 woche-juli-2024/
SUMMARY:Start: Form im Wandel: Sommerwoche Juli 2024
DESCRIPTION:– 08.07. – 14.07.2024 –\n\nDas Geschenk des Lebens heißt
  Wandlung. Es ist in allem\, was existiert\, zu beobachten und lädt uns e
 in\, den Sinn des Daseins zu entdecken. Diesem Lebensfluss zu folgen\, red
 uziert Ängste\, stärkt Vertrauen und läßt uns in Balance sein zwischen
  Tun und Lassen.\n\nDie natürliche Kraft der Kreativität – ein Potenzi
 al\, das in jedem Menschen existent ist – wird genutzt\, um Erfahrenes a
 uszudrücken und neue Wege des Erlebens zu erkunden. Neben Gesprächen sin
 d vor allem körpertherapeutische und humanistisch-erlebnisorientierte Ver
 fahren aus dem Bereich der Tanz- und Bewegungstherapie sowie meditative Ei
 nheiten Inhalte dieses Weges.\n\nPersönliche Themen ausdrücken lernen\, 
 braucht einen Rahmen\, in dem es ein respektvolles Miteinander geben kann.
 \nDies zu ermöglichen\, ist das Anliegen von Denise May.\n\nTermin: 8. - 
 14. Juli 2024\nZeiten: täglich 10  – 17 Uhr\nKosten: 595\,00 Euro\nTeil
 nehmerinnenzahl: 6 - 10 Frauen\n\nWeitere Infos: Denise-May-Form-und-Wandl
 ung-08.-14.07.2024 (pdf-Datei\, 74 KB)
END:VEVENT
BEGIN:VTIMEZONE
TZID:Europe/Berlin
X-LIC-LOCATION:Europe/Berlin
BEGIN:DAYLIGHT
DTSTART:20240331T030000
TZOFFSETFROM:+0100
TZOFFSETTO:+0200
TZNAME:CEST
END:DAYLIGHT
END:VTIMEZONE
END:VCALENDAR