BEGIN:VCALENDAR
VERSION:2.0
PRODID:-//wp-events-plugin.com//7.2.3.1//EN
TZID:Europe/Berlin
X-WR-TIMEZONE:Europe/Berlin
BEGIN:VEVENT
UID:1983@frauenportal.koeln
DTSTART;TZID=Europe/Berlin;VALUE=DATE:20190905
DTEND;TZID=Europe/Berlin;VALUE=DATE:20190906
DTSTAMP:20190828T102535Z
URL:https://frauenportal.koeln/veranstaltungen/start-fortbildung-team-und-
 selbstfuersorge-im-kontext-trauma-und-flucht/
SUMMARY:Start: Fortbildung Team- und Selbstfürsorge im Kontext Trauma und 
 Flucht
DESCRIPTION:medica mondiale bietet vom 5. bis 7. September 2019 in Köln di
 e Fortbildung „Team- und Selbstfürsorge im Kontext Trauma und Flucht“
  für Fachkräfte mit eigener Flucht- und Migrationserfahrung an.\n\nViele
  Geflüchtete haben vor\, während oder nach ihrer Flucht traumatische Erl
 ebnisse wie Krieg\, Verlust oder sexualisierte Gewalt überlebt. Für Mens
 chen mit Gewalterfahrung ist daher ein Schutz vor weiteren Ohnmachtserfahr
 ungen entscheidend. Das angebotene Seminar von medica mondiale konzentrier
 t sich darauf die Selbstfürsorge und Teamfürsorge der Teilnehmenden zu s
 tärken. Denn eine empathische und kompetente Unterstützung ist maßgebli
 ch\, um Geflüchtete im Hier und Jetzt zu stärken. \n\nMenschen\, die unt
 erstützend mit geflüchteten Personen arbeiten\, tun dies oft unter hekti
 schen und belastenden Bedingungen. Damit Fachkräfte mit eigener Flucht- u
 nd Migrationserfahrung selbst stabil bleiben und ihre Arbeit langfristig a
 usüben können\, sollten sie durch Stärkung der Selbstfürsorge und Team
 fürsorge unterstützt werden.\n\nWie erkenne ich Anzeichen von Überforde
 rung bei mir und anderen Fachkolleginnen? Was ist eine sekundäre Traumati
 sierung? Wie kann ich Team- und Selbstfürsorge im Arbeitsalltag umsetzen?
  Fragen wie diese werden während des dreitägigen Seminars von medica mon
 diale diskutiert. Die Fortbildung Team- und Selbstfürsorge ermöglicht\, 
 das eigene Handeln und die Begrenzung der eigenen Möglichkeiten zu reflek
 tieren und die Fürsorge für sich und andere zu stärken.\n \nWährend de
 r drei Fortbildungstage von medica mondiale kann gelernt werden\, \nwie si
 ch Trauma  und Gewalt im Kontext von Flucht und Migration auswirken\, \nse
 nsibel für Stress und Trauma zu sein und dies im Arbeitsalltag zu berück
 sichtigen\, \nwie Sie erste Anzeichen von Überforderung bei sich und ande
 ren erkennen\, \nwie Sie präventiv Team- und Selbstfürsorge fördern\, \
 nwie Sie Achtsamkeitsübungen direkt in der täglichen Arbeit anwenden kö
 nnen.\n \nZeiten: 05. bis 07. September 2019\, Donnerstag und Freitag\, je
 weils von 10 - 18 Uhr und Samstag von 10 - 16 Uhr \n\nZielgruppe: Fachkrä
 fte mit eigener Flucht-/Migrationsgeschichte\n \nReferentinnen:\nDenise Kl
 ein und Miriam Harosh-Pätsch\, medicamondiale.org/fortbildungen/trainerin
 nen \n\nVeranstalterin:\nmedica mondiale e.V.\n\nKontakt:\n0221 / 931898-4
 6\, E-Mail: seminare@medicamondiale.org\n\nKosten / Anmeldung:\nTeilnahmeb
 eiträge für Tagungspauschale (Mittagessen\, Snacks und Getränke):\nSoli
 daritätsbeitrag 160\,00 Euro  \nregulärer Beitrag 119\,70 Euro (39\,90 p
 ro Tag) \nermäßigter Beitrag 75\,00 Euro\nAnmeldung: www.medicamondiale.
 org/fortbildungen/\n\nVeranstaltungsort:\nJugendherberge Riehl\, An der Sc
 hanz 14\, 50735 Köln\, [map id=1095]
END:VEVENT
BEGIN:VTIMEZONE
TZID:Europe/Berlin
X-LIC-LOCATION:Europe/Berlin
BEGIN:DAYLIGHT
DTSTART:20190331T030000
TZOFFSETFROM:+0100
TZOFFSETTO:+0200
TZNAME:CEST
END:DAYLIGHT
END:VTIMEZONE
END:VCALENDAR