BEGIN:VCALENDAR
VERSION:2.0
PRODID:-//wp-events-plugin.com//7.2.3.1//EN
TZID:Europe/Berlin
X-WR-TIMEZONE:Europe/Berlin
BEGIN:VEVENT
UID:3377@frauenportal.koeln
DTSTART;TZID=Europe/Berlin;VALUE=DATE:20211115
DTEND;TZID=Europe/Berlin;VALUE=DATE:20211116
DTSTAMP:20211020T130127Z
URL:https://frauenportal.koeln/veranstaltungen/start-frau-musica-nova-2021
 /
SUMMARY:Start: Frau Musica Nova 2021
DESCRIPTION:- 15.11. – 22.11.2021 -\n\nMit LESS REALITY! präsentiert FRA
 U MUSICA NOVA (FMN) 2021 eine Festivalausgabe\, die gesellschaftspolitisch
  relevante Themen aufgreift und deren musikalisch-performative Umsetzungen
  in zwei eigenwilligen Bühnenperformances sowie drei exzentrischen digita
 len Audio-Shows präsentiert.\n\nHier geht es zum Programm: www.fmn-space.
 de\n\nVeranstalterin:\nFRAU MUSICA NOVA - FMN\, www.fmn-space.de\n\nAnspre
 chpartnerin:\nSusanne Ruprecht\, Pressebüro FRAU MUSICA NOVA - FMN\, Tel.
 : 0163 / 254 86 34\, E-Mail: s.ruprecht@gmx.de
END:VEVENT
BEGIN:VTIMEZONE
TZID:Europe/Berlin
X-LIC-LOCATION:Europe/Berlin
BEGIN:STANDARD
DTSTART:20211031T020000
TZOFFSETFROM:+0200
TZOFFSETTO:+0100
TZNAME:CET
END:STANDARD
END:VTIMEZONE
END:VCALENDAR