BEGIN:VCALENDAR
VERSION:2.0
PRODID:-//wp-events-plugin.com//7.2.3.1//EN
TZID:Europe/Berlin
X-WR-TIMEZONE:Europe/Berlin
BEGIN:VEVENT
UID:3348@frauenportal.koeln
DTSTART;TZID=Europe/Berlin:20210930T170000
DTEND;TZID=Europe/Berlin:20210930T183000
DTSTAMP:20210927T081743Z
URL:https://frauenportal.koeln/veranstaltungen/start-go-digital-2021/
SUMMARY:Start: Go Digital 2021
DESCRIPTION:– donnerstags 30.09.2021 bis 23.12.2021 –\n\nIn diesem Kurs
  geht es um das Erlernen der berufsbezogenen Fachwörter mit Hilfe einer m
 ultisprachige und multimediale Datenbank.\n\nVeranstalterin:\nArbeitsgrupp
 e der Akademikerinnen in Menschenrechte-Einundzwanzig e.V.\, http://akadfm
 fm-menschenrechte21ev.com\n\nAnsprechpartnerin:\nAfsar Soheila Sattari\, T
 el.: 0178 / 6357200\, E-Mail: sattari@akadfmfm-menschenrechte21ev.com\n\nV
 eranstaltungsort:\nFirma Goal / Sattari\, Wilhelmstr. 12\, 51143 Köln (Po
 rz Markt) 
END:VEVENT
BEGIN:VTIMEZONE
TZID:Europe/Berlin
X-LIC-LOCATION:Europe/Berlin
BEGIN:DAYLIGHT
DTSTART:20210328T030000
TZOFFSETFROM:+0100
TZOFFSETTO:+0200
TZNAME:CEST
END:DAYLIGHT
END:VTIMEZONE
END:VCALENDAR