BEGIN:VCALENDAR
VERSION:2.0
PRODID:-//wp-events-plugin.com//7.2.3.1//EN
TZID:Europe/Berlin
X-WR-TIMEZONE:Europe/Berlin
BEGIN:VEVENT
UID:4714@frauenportal.koeln
DTSTART;TZID=Europe/Berlin;VALUE=DATE:20240301
DTEND;TZID=Europe/Berlin;VALUE=DATE:20240302
DTSTAMP:20240228T151726Z
URL:https://frauenportal.koeln/veranstaltungen/start-im-einsatz-fuer-das-l
 eben-hebammen-weltweit/
SUMMARY:Start: Im Einsatz für das Leben Hebammen weltweit
DESCRIPTION:– 1. März bis 20. März 2024 –\n\nEine sichere Geburt ist 
 keine Selbstverständlichkeit. Es sollte ein Menschenrecht sein! Durchschn
 ittlich sterben jedoch weltweit über 800 Frauen pro Tag aufgrund von Komp
 likationen während der Schwangerschaft oder der Geburt. Dies gilt vor all
 em für Länder mit geringem Einkommen und unzureichender medizinischer Ve
 rsorgung. So hat Côte d´Ivoire eine der höchsten Müttersterblichkeitsq
 uoten weltweit.\n\nEssenziell für eine sichere Geburt sind Hebammen. Sie 
 begleiten werdende Mütter medizinisch und stehen ihnen vor\, während und
  nach der Geburt zur Seite. Die Wanderausstellung von CARE portraitiert se
 chs Frauen aus Côte d’Ivoire\, Irak\, Kambodscha\, Uganda\, Ukraine und
  Deutschland: sechs Orte\, an denen Leben unter oft schwierigen Bedingunge
 n beginnt. Jede der sechs Frauen hat ihre eigene\, persönliche Geschichte
 . \n\nMehr dazu: www.care.de/ueber-uns/veranstaltungen/im-einsatz-fuer-das
 -leben/\n\nVernissage:\n8. März 2024\, 16 Uhr\n\nÖffnungszeiten:\nDienst
 ag bis Samstag 14 - 18 Uhr\, Sonntag 11 -18  Uhr\n\nEintrittspreise:\nErwa
 chsene: 10 €\, ermäßigt: 6 €\, Gruppen ab 5 Personen: 6 €\n\nVeran
 stalterin:\nFrauenmuseum\n\nAnsprechpartnerin:\nPetra Peter-Friedrichs\, T
 el: 0228/ 691344\, E-Mail: petra.peter-friedrichs@frauenmuseum.de\n
LOCATION:Frauenmuseum\, Im Krausfeld 10\, 53111 Bonn
GEO:50.74042739999999;7.092034399999989
X-APPLE-STRUCTURED-LOCATION;VALUE=URI;X-ADDRESS=Im Krausfeld 10\, Bonn\, 53
 111\, Frauenorganisation\, Deutschland;X-APPLE-RADIUS=100;X-TITLE=Frauenmu
 seum:geo:50.74042739999999,7.092034399999989
END:VEVENT
BEGIN:VTIMEZONE
TZID:Europe/Berlin
X-LIC-LOCATION:Europe/Berlin
BEGIN:STANDARD
DTSTART:20231029T020000
TZOFFSETFROM:+0200
TZOFFSETTO:+0100
TZNAME:CET
END:STANDARD
END:VTIMEZONE
END:VCALENDAR