BEGIN:VCALENDAR
VERSION:2.0
PRODID:-//wp-events-plugin.com//7.2.3.1//EN
TZID:Europe/Berlin
X-WR-TIMEZONE:Europe/Berlin
BEGIN:VEVENT
UID:3608@frauenportal.koeln
DTSTART;TZID=Europe/Berlin;VALUE=DATE:20220329
DTEND;TZID=Europe/Berlin;VALUE=DATE:20220330
DTSTAMP:20211222T134029Z
URL:https://frauenportal.koeln/veranstaltungen/start-internationales-fraue
 nfilmfestival-2/
SUMMARY:Start: Internationales Frauenfilmfestival
DESCRIPTION:Vom 29. März bis 3. April 2022 findet das Internationale Fraue
 nfilmfestival in Köln statt.\n\nDas Internationale Frauen* Film Fest Dort
 mund+Köln ist Deutschlands größtes Forum für Frauen* in der Filmbranch
 e und präsentiert herausragende Filme von Frauen* aller Genres und Stilri
 chtungen. Seit fast 40 Jahren trägt das Festival aktiv dazu bei\, dass Fi
 lme von Regisseur*innen mehr gesehen\, geschätzt und kanonisiert werden. 
 Es stärkt den Einfluss von Frauen* in allen Gewerken der Kinoindustrie: a
 llen voran die Regisseur*innen\, aber auch Bildgestalter*innen\, Produzent
 *innen\, Drehbuchautor*innen\, Komponist*innen\, Schauspieler*innen und vi
 ele mehr.\n\nMehr Informationen unter www.frauenfilmfest.com\n\nKontakt:\n
 Tel.: 0231 / 5025162\, E-Mail: info@frauenfilmfestival.eu
END:VEVENT
BEGIN:VTIMEZONE
TZID:Europe/Berlin
X-LIC-LOCATION:Europe/Berlin
BEGIN:DAYLIGHT
DTSTART:20220327T030000
TZOFFSETFROM:+0100
TZOFFSETTO:+0200
TZNAME:CEST
END:DAYLIGHT
END:VTIMEZONE
END:VCALENDAR