BEGIN:VCALENDAR
VERSION:2.0
PRODID:-//wp-events-plugin.com//7.2.3.1//EN
TZID:Europe/Berlin
X-WR-TIMEZONE:Europe/Berlin
BEGIN:VEVENT
UID:4735@frauenportal.koeln
DTSTART;TZID=Europe/Berlin;VALUE=DATE:20240416
DTEND;TZID=Europe/Berlin;VALUE=DATE:20240417
DTSTAMP:20240305T101039Z
URL:https://frauenportal.koeln/veranstaltungen/start-internationales-fraue
 nfilmfestival-3/
SUMMARY:Start: Internationales Frauenfilmfestival
DESCRIPTION:Vom 16. bis 21. April 2024 findet das Internationale Frauenfilm
 festival in Köln statt.\n\nDas Internationale Frauen* Film Fest Dortmund+
 Köln ist Deutschlands größtes Forum für Frauen* in der Filmbranche und
  präsentiert herausragende Filme von Frauen* aller Genres und Stilrichtun
 gen. Seit mehr als 40 Jahren trägt das Festival aktiv dazu bei\, dass Fil
 me von Regisseur*innen mehr gesehen\, geschätzt und kanonisiert werden. E
 s stärkt den Einfluss von Frauen* in allen Gewerken der Kinoindustrie: al
 len voran die Regisseur*innen\, aber auch Bildgestalter*innen\, Produzent*
 innen\, Drehbuchautor*innen\, Komponist*innen\, Schauspieler*innen und vie
 le mehr.\n\nMehr Informationen unter www.frauenfilmfest.com\n\nKontakt:\nT
 el.: 0231 / 5025162\, E-Mail: info@frauenfilmfestival.eu
END:VEVENT
BEGIN:VTIMEZONE
TZID:Europe/Berlin
X-LIC-LOCATION:Europe/Berlin
BEGIN:DAYLIGHT
DTSTART:20240331T030000
TZOFFSETFROM:+0100
TZOFFSETTO:+0200
TZNAME:CEST
END:DAYLIGHT
END:VTIMEZONE
END:VCALENDAR