BEGIN:VCALENDAR
VERSION:2.0
PRODID:-//wp-events-plugin.com//7.2.3.1//EN
TZID:Europe/Berlin
X-WR-TIMEZONE:Europe/Berlin
BEGIN:VEVENT
UID:6203@frauenportal.koeln
DTSTART;TZID=Europe/Berlin;VALUE=DATE:20260422
DTEND;TZID=Europe/Berlin;VALUE=DATE:20260427
DTSTAMP:20260415T083142Z
URL:https://frauenportal.koeln/veranstaltungen/start-internationales-fraue
 nfilmfestival-4/
SUMMARY:Start: Internationales Frauenfilmfestival
DESCRIPTION:Vom 22. bis 26. April 2026 findet das Internationale Frauenfilm
 festival in Köln statt.\n\nDas Internationale Frauen Film Fest Dortmund+K
 öln ist Deutschlands größtes Forum für Frauen in der Filmbranche und p
 räsentiert herausragende Filme von Frauen aller Genres und Stilrichtungen
 . Seit mehr als 40 Jahren trägt das Festival aktiv dazu bei\, dass Filme 
 von Regisseur*innen mehr gesehen\, geschätzt und kanonisiert werden. Es s
 tärkt den Einfluss von Frauen* in allen Gewerken der Kinoindustrie: allen
  voran die Regisseur*innen\, aber auch Bildgestalter*innen\, Produzent*inn
 en\, Drehbuchautor*innen\, Komponist*innen\, Schauspieler*innen und viele 
 mehr.\n\nMehr Informationen unter www.frauenfilmfest.com\n\nKontakt:\nTel.
 : 0231 / 5025162\, E-Mail: info@frauenfilmfestival.eu
END:VEVENT
BEGIN:VTIMEZONE
TZID:Europe/Berlin
X-LIC-LOCATION:Europe/Berlin
BEGIN:DAYLIGHT
DTSTART:20260329T030000
TZOFFSETFROM:+0100
TZOFFSETTO:+0200
TZNAME:CEST
END:DAYLIGHT
END:VTIMEZONE
END:VCALENDAR