BEGIN:VCALENDAR
VERSION:2.0
PRODID:-//wp-events-plugin.com//7.2.3.1//EN
TZID:Europe/Berlin
X-WR-TIMEZONE:Europe/Berlin
BEGIN:VEVENT
UID:2641@frauenportal.koeln
DTSTART;TZID=Europe/Berlin;VALUE=DATE:20210615
DTEND;TZID=Europe/Berlin;VALUE=DATE:20210616
DTSTAMP:20210607T152815Z
URL:https://frauenportal.koeln/veranstaltungen/start-internationales-fraue
 nfilmfestival/
SUMMARY:Start: Internationales Frauenfilmfestival
DESCRIPTION:Vom 15. bis 20. Juni 2021 findet das Internationale Frauenfilmf
 estival online statt.\n\n70 Filme\, Online-Gespräche und Live-Events aus 
 dem Dortmunder Festivalstudio sind zu erleben. Präsentiert werden die Wer
 ke in verschiedenen Sektionen: Fokus\, Panorama für Dokus\, Experimental-
  und Kurzfilme\, begehrt! – filmlust queer\, dem Archiv-Programm IFFF pa
 ckt aus und Spot on\, NRW! mit Filmschaffenden aus NRW. Für den mit 15.00
 0 Euro dotierten Internationalen Spielfilmwettbewerb kandidieren acht Film
 e. Auch ein Programm für Kinder und Jugendliche ist geboten und die Teiln
 ahme für KiTas und Schulen ist kostenlos.\nFast alle Filme werden in Orig
 inalsprache und die längeren mit deutschen Untertitel gezeigt.\n\nMehr In
 formationen unter www.frauenfilmfest.com\n\nKontakt:\nTel.: 0231 / 5025162
 \, E-Mail: info@frauenfilmfestival.eu
END:VEVENT
BEGIN:VTIMEZONE
TZID:Europe/Berlin
X-LIC-LOCATION:Europe/Berlin
BEGIN:DAYLIGHT
DTSTART:20210328T030000
TZOFFSETFROM:+0100
TZOFFSETTO:+0200
TZNAME:CEST
END:DAYLIGHT
END:VTIMEZONE
END:VCALENDAR