BEGIN:VCALENDAR
VERSION:2.0
PRODID:-//wp-events-plugin.com//7.2.3.1//EN
TZID:Europe/Berlin
X-WR-TIMEZONE:Europe/Berlin
BEGIN:VEVENT
UID:3922@frauenportal.koeln
DTSTART;TZID=Europe/Berlin;VALUE=DATE:20221105
DTEND;TZID=Europe/Berlin;VALUE=DATE:20221106
DTSTAMP:20221031T094109Z
URL:https://frauenportal.koeln/veranstaltungen/start-kunsthandwerkerinnenm
 arkt-im-beginenhof-3/
SUMMARY:Start: Kunsthandwerkerinnenmarkt im Beginenhof
DESCRIPTION:– 6. November 2021 (Sa) - 7. November 2021 (So)\, 11.00 - 18.
 00 Uhr –\n\nIm Beginenhof präsentieren 12 Kunsthandwerkerinnen und ein 
 Strickteam eine Vielfalt nützlicher und dekorativer Handwerkskunst:\n\nAc
 cessoires aus Wolle und Seide – Tischdekorationen und Nützliches aus ed
 len Stoffen – Wolliges: modisch\, chic\, kuschelige Babysachen – Gewü
 rze\, Essig-/Ölspezialitäten – hausgemachte Marmeladen – Pralinen\, 
 Plätzchen\, Liköre – Stricksachen: Praktisches u.a. - modisch-bunte So
 cken – phantasievoll bemalte Stein-Unikate – kunstvoll gestaltete Kart
 en – Modeschmuck aus diversen Materialien – handgemachte Naturseife 
 – Scherbenkunst – Tonfiguren u.a.\n\nWenn die Pandemiesituation es erl
 aubt gibt es auch Kaffee und Kuchen.\n\nVeranstalterin:\nBeginen Köln e.V
 .\n\nAnsprechpartnerin:\nChristine Müthrath\, Tel.: 0221 / 9655820\, E-Ma
 il: info@beginen.de\n\nKosten:\nEintritt frei.\n\nVeranstaltungsort:\nBegi
 nentreff im Beginenhof Köln\, Unter Linden 119\, 50859 Köln\, [map id=10
 48]
END:VEVENT
BEGIN:VTIMEZONE
TZID:Europe/Berlin
X-LIC-LOCATION:Europe/Berlin
BEGIN:STANDARD
DTSTART:20221030T020000
TZOFFSETFROM:+0200
TZOFFSETTO:+0100
TZNAME:CET
END:STANDARD
END:VTIMEZONE
END:VCALENDAR