BEGIN:VCALENDAR
VERSION:2.0
PRODID:-//wp-events-plugin.com//7.2.3.1//EN
TZID:Europe/Berlin
X-WR-TIMEZONE:Europe/Berlin
BEGIN:VEVENT
UID:5835@frauenportal.koeln
DTSTART;TZID=Europe/Berlin;VALUE=DATE:20251108
DTEND;TZID=Europe/Berlin;VALUE=DATE:20251109
DTSTAMP:20251031T141155Z
URL:https://frauenportal.koeln/veranstaltungen/start-kunsthandwerkerinnenm
 arkt-im-beginenhof-6/
SUMMARY:Start: Kunsthandwerkerinnenmarkt im Beginenhof
DESCRIPTION:– 8. November 2025 (Sa) - 09. November 2025 (So)\, 11.00 - 18
 .00 Uhr –\n\nIm Beginenhof präsentieren zum 11. Mal  Kunsthandwerkerinn
 en und ein Strickteam eine Vielfalt nützlicher und dekorativer Handwerksk
 unst:\n\nAccessoires aus Wolle und Seide – Nützliches aus edlen Stoffen
  – Wolliges und Gefilztes\, modisch\, chic  – Stricksachen – Essig-/
 Ölspezialitäten – hausgemachte Marmeladen – Pralinen\, Plätzchen\, 
 Liköre – Gemälde – kunstvoll gestaltete Karten – Modeschmuck aus d
 iversen Materialien – handgemachte Naturseife – Scherbenkunst –  Ker
 amik u.a.\n\nEs gibt auch Kaffee und Kuchen.\n\nVeranstalterin:\nBeginen K
 öln e.V.\n\nAnsprechpartnerin:\nChristine Müthrath\, Tel.: 0221 / 965582
 0\, E-Mail: info@beginen.de\n\nKosten:\nEintritt frei.
LOCATION:Beginenhof Köln\, Unter Linden 119\, 50859 Köln
GEO:50.9636513;6.8421158
X-APPLE-STRUCTURED-LOCATION;VALUE=URI;X-ADDRESS=Unter Linden 119\, Köln\, 
 50859\, Veranstaltungsort\, Deutschland;X-APPLE-RADIUS=100;X-TITLE=Beginen
 hof Köln:geo:50.9636513,6.8421158
END:VEVENT
BEGIN:VTIMEZONE
TZID:Europe/Berlin
X-LIC-LOCATION:Europe/Berlin
BEGIN:STANDARD
DTSTART:20251026T020000
TZOFFSETFROM:+0200
TZOFFSETTO:+0100
TZNAME:CET
END:STANDARD
END:VTIMEZONE
END:VCALENDAR