BEGIN:VCALENDAR
VERSION:2.0
PRODID:-//wp-events-plugin.com//7.2.3.1//EN
TZID:Europe/Berlin
X-WR-TIMEZONE:Europe/Berlin
BEGIN:VEVENT
UID:4340@frauenportal.koeln
DTSTART;TZID=Europe/Berlin:20230708T160000
DTEND;TZID=Europe/Berlin:20230708T170000
DTSTAMP:20230703T100658Z
URL:https://frauenportal.koeln/veranstaltungen/start-lesbische-sichtbarkei
 t-im-koelnerfrauenstadtplan/
SUMMARY:Start: Lesbische Sichtbarkeit im Kölner*Frauenstadtplan
DESCRIPTION:In diesem Jahr erwartet ColognePride 250 Wagen im CSD-Umzug!\nD
 as umfangreiche Rahmenprogramm vom 24.6.-9.7.2023 ist unter www.colognepri
 de.de zu finden.\n \nDie Stiftung Frauen*leben in Köln ist auch auf dem C
 SD vertreten: am 8.7 und 9.7. von 16-17 Uhr gibt es auf dem Elogiusplatz (
 Ecke Kleiner Sandkaul/Augustinerstrasse) zwei Präsentationen zum Thema: 
 „Lesbische Sichtbarkeit im Kölner Frauen*Stadtplan“. \n\nAm Samstag\,
  8.7.2023 spricht Dr. Ingeborg Boxhammer über Johanna Elberskirchen\, ein
 e mutige Aktivistin der ersten Frauenbewegung\, die sich \nschon damals al
 s Lesbe geoutet hat. \n\nAm Sonntag\, 9.7.2023 wird der Fokus auf Frauenpr
 ojekten liegen\, die von lesbischen Frauen gegründet wurden. \n\nDer Elog
 iusplatz ist eine ruhige Ecke inmitten des Trubels\, einfach vorbei kommen
 !\n\nVeranstalterin:\nStiftung Frauen*leben in Köln\, www.stiftung-frauen
 leben.koeln\n\nAnsprechpartnerinnen:\nDr. med. Maria Beckermann\, Dr. med.
  Anne Gutzmann\, Dr. med. Susanne Zickler\, E-Mail: mail@stiftung-frauenle
 ben.koeln
LOCATION:Elogiusplatz\, Elogiusplatz\, 50667 Köln
GEO:50.93543;6.958805
X-APPLE-STRUCTURED-LOCATION;VALUE=URI;X-ADDRESS=Elogiusplatz\, Köln\, Nord
 rhein-Westfalen\, 50667\, Veranstaltungsort\, Deutschland;X-APPLE-RADIUS=1
 00;X-TITLE=Elogiusplatz:geo:50.93543,6.958805
END:VEVENT
BEGIN:VTIMEZONE
TZID:Europe/Berlin
X-LIC-LOCATION:Europe/Berlin
BEGIN:DAYLIGHT
DTSTART:20230326T030000
TZOFFSETFROM:+0100
TZOFFSETTO:+0200
TZNAME:CEST
END:DAYLIGHT
END:VTIMEZONE
END:VCALENDAR