BEGIN:VCALENDAR
VERSION:2.0
PRODID:-//wp-events-plugin.com//7.2.3.1//EN
TZID:Europe/Berlin
X-WR-TIMEZONE:Europe/Berlin
BEGIN:VEVENT
UID:3235@frauenportal.koeln
DTSTART;TZID=Europe/Berlin;VALUE=DATE:20210502
DTEND;TZID=Europe/Berlin;VALUE=DATE:20210503
DTSTAMP:20230311T082114Z
URL:https://frauenportal.koeln/veranstaltungen/start-maria-2-0-aktionstage
 /
SUMMARY:Start: Maria 2.0 - Aktionstage
DESCRIPTION:Vom 2. bis zum 19. Mai 2021 will Maria 2.0 wieder mit verschied
 enen Aktionen zur Erneuerung der katholischen Kirche beitragen. \nNatürli
 ch werden die verschiedenen Veranstaltungen unter Einhaltung der vorgegebe
 nen Schutzmaßnahmen durchgeführt\, zum Teil digital\, zum Teil in Präse
 nz mit Anmeldung.\nAlle Interessierten sind herzlich willkommen!\n \nHier 
 sind die Einladungen:\n\nMaria 2.0 - Aktionstage Rheinland\, Mai 2021 (pdf
 -Datei\, 171 KB)\n\nMaria 2.0 - Politisches Nachtgebet\, 19. Mai 2021 (pdf
 -Datei\, 129 KB)\n\nSiehe auch: www.facebook.com/Maria-20-Rheinland-108671
 360960801/\n\nVeranstalterin:\nMaria 2.0 Rheinland\, mariazweipunktnull-rh
 einland.de\n\nAnsprechparnerin:\nVeronika Klar\, E-Mail: maria2.0.bw@gmail
 .com
END:VEVENT
BEGIN:VTIMEZONE
TZID:Europe/Berlin
X-LIC-LOCATION:Europe/Berlin
BEGIN:DAYLIGHT
DTSTART:20210328T030000
TZOFFSETFROM:+0100
TZOFFSETTO:+0200
TZNAME:CEST
END:DAYLIGHT
END:VTIMEZONE
END:VCALENDAR