BEGIN:VCALENDAR
VERSION:2.0
PRODID:-//wp-events-plugin.com//7.2.3.1//EN
TZID:Europe/Berlin
X-WR-TIMEZONE:Europe/Berlin
BEGIN:VEVENT
UID:2855@frauenportal.koeln
DTSTART;TZID=Europe/Berlin;VALUE=DATE:20200918
DTEND;TZID=Europe/Berlin;VALUE=DATE:20200919
DTSTAMP:20200914T122055Z
URL:https://frauenportal.koeln/veranstaltungen/start-meinklang/
SUMMARY:Start: "MEINKLANG"
DESCRIPTION:- 18.09.- 24.10.2020 -\n\n"MEINKLANG" ist ein intersektionales 
 Musikprojekt für mehrfachdiskriminierte Jugendliche. Über dieses Projek
 t erhalten Jugendliche die Möglichkeit\, eigene Songs zu schreiben und im
  Tonstudio aufzunehmen und dadurch das\, was sie bewegt und beschäftigt\,
  über den Weg der Musik zu erforschen und zu vermitteln.\n\nDas Wichtigs
 te hier auf einen Blick:\n\n18./19./20.09.2020 Empowerment - Finde dein Th
 ema\, schreibe deinen Text!\n03./04.10.2020 Musik machen - Aus deinem Text
  wird ein Song!\n21./22./23./24.10.2020 - Aufnahmesession & Producing!\n\n
 Hier ist die Einladung: Jung-intersektional-2020 (pdf-Datei\, 708 KB)\n\nV
 eranstalterin:\nInterkulturelles Frauen- und Mädchen-Gesundheitszentrum 
 – IFMGZ Holla e.V.\, www.holla-ev.de\n\nAnsprechpartnerin:\nSusan Bagdac
 h\, Tel.: 0221 / 97 61 05 81\, E-Mail: info@holla-ev.de\n\nKosten / Anmeld
 ung:\nDie Teilnahme ist kostenfrei. Anmeldung unter: info@holla-ev.de\n\nV
 eranstaltungsort:\nIFMGZ HOLLA e.V.\, Industriestr. 131 c\, 50 996 Köln\,
  [map id=11598]
END:VEVENT
BEGIN:VTIMEZONE
TZID:Europe/Berlin
X-LIC-LOCATION:Europe/Berlin
BEGIN:DAYLIGHT
DTSTART:20200329T030000
TZOFFSETFROM:+0100
TZOFFSETTO:+0200
TZNAME:CEST
END:DAYLIGHT
END:VTIMEZONE
END:VCALENDAR